BEGIN:VCALENDAR
VERSION:2.0
PRODID:-//UNIVERSITY OF TEXAS SCHOOL OF LAW//NONSGML Events Calendar v1.0//EN
X-WR-TIMEZONE:America/Chicago
BEGIN:VTIMEZONE
TZID:US/Central
X-LIC-LOCATION:America/Chicago
BEGIN:DAYLIGHT
TZOFFSETFROM:-0600
TZOFFSETTO:-0500
TZNAME:CDT
DTSTART:19700308T020000
RRULE:FREQ=YEARLY;BYMONTH=3;BYDAY=2SU
END:DAYLIGHT
BEGIN:STANDARD
TZOFFSETFROM:-0500
TZOFFSETTO:-0600
TZNAME:CST
DTSTART:19701101T020000
RRULE:FREQ=YEARLY;BYMONTH=11;BYDAY=1SU
END:STANDARD
END:VTIMEZONE
BEGIN:VEVENT
DTSTART;TZID=US/Central:20171207T114500
DTEND;VALUE=DATE-TIME;TZID=US/Central:20171207T134500

DTSTAMP:20260419T202900Z
CREATED:20171127T200000Z
LAST-MODIFIED:20171128T200700Z
UID:20171207T114500-35144@law.utexas.edu
SUMMARY:Screening: "Never Give Up!" Documentary
DESCRIPTION:<p>SUMMARY: Never Give Up! Minoru Yasui and the Fight for Justice relates the life history of an American hero. Minoru (Min) Yasui was born and raised in the small farming town of Hood River, Oregon in 1916, by Japanese immigrant parents. He was the first Japanese American attorney in Oregon and during World War II, he initiated a legal test case by deliberately violating military orders that lead to the incarceration of over 120,000 persons of Japanese ancestry in U.S. War Relocation Authority concentration camps. He spent 9 months in solitary confinement awaiting his appeal to the U.S. Supreme Court, which ruled against him. In the 1970s and 80s, he spearheaded the redress movement to win reparations and a formal apology from the government for the injustices against Japanese Americans during World War II. He also reopened his wartime case, and it was in appeal when died in 1986. He is buried in his hometown of Hood River, Oregon.</p>
  <p>Narrated by George Takei! Q&amp;A with Mr. Yasui's daugher and lead attorney will follow the screening.
  </p>\n\nIf you need an accommodation to participate in this event, please contact the event sponsor or the Texas Law Special Events Office at specialevents@law.utexas.edu no later than seven business days prior to the event.
X-ALT-DESC;FMTTYPE=text/html:<p>SUMMARY: Never Give Up! Minoru Yasui and the Fight for Justice relates the life history of an American hero. Minoru (Min) Yasui was born and raised in the small farming town of Hood River, Oregon in 1916, by Japanese immigrant parents. He was the first Japanese American attorney in Oregon and during World War II, he initiated a legal test case by deliberately violating military orders that lead to the incarceration of over 120,000 persons of Japanese ancestry in U.S. War Relocation Authority concentration camps. He spent 9 months in solitary confinement awaiting his appeal to the U.S. Supreme Court, which ruled against him. In the 1970s and 80s, he spearheaded the redress movement to win reparations and a formal apology from the government for the injustices against Japanese Americans during World War II. He also reopened his wartime case, and it was in appeal when died in 1986. He is buried in his hometown of Hood River, Oregon.</p>
  <p>Narrated by George Takei! Q&amp;A with Mr. Yasui's daugher and lead attorney will follow the screening.
  </p><p>If you need an accommodation to participate in this event, please contact the event
                                          event sponsor or the Texas Law Special Events Office at <a href="mailto:specialevents@law.utexas.edu">specialevents@law.utexas.edu</a> no later than seven business days prior to the event.</p>
CATEGORIES:Panel Discussion / Speaker Series
LOCATION:TNH 2.138 - Blanton Classroom
URL:http://law.utexas.edu/calendar/2017/12/07/35144/
CLASS:PUBLIC
STATUS:CONFIRMED

END:VEVENT
END:VCALENDAR