BEGIN:VCALENDAR
VERSION:2.0
PRODID:-//UNIVERSITY OF TEXAS SCHOOL OF LAW//NONSGML Events Calendar v1.0//EN
X-WR-TIMEZONE:America/Chicago
BEGIN:VTIMEZONE
TZID:US/Central
X-LIC-LOCATION:America/Chicago
BEGIN:DAYLIGHT
TZOFFSETFROM:-0600
TZOFFSETTO:-0500
TZNAME:CDT
DTSTART:19700308T020000
RRULE:FREQ=YEARLY;BYMONTH=3;BYDAY=2SU
END:DAYLIGHT
BEGIN:STANDARD
TZOFFSETFROM:-0500
TZOFFSETTO:-0600
TZNAME:CST
DTSTART:19701101T020000
RRULE:FREQ=YEARLY;BYMONTH=11;BYDAY=1SU
END:STANDARD
END:VTIMEZONE
BEGIN:VEVENT
DTSTART;TZID=US/Central:20171208T090000
DTEND;VALUE=DATE-TIME;TZID=US/Central:20171208T120000

DTSTAMP:20260419T202000Z
CREATED:20170921T205500Z
LAST-MODIFIED:20170921T205500Z
UID:20171208T090000-33464@law.utexas.edu
SUMMARY:Understanding &amp; Managing Conflict
DESCRIPTION:<p>We experience conflict every day, whether at work, home or interacting with the public. This class will provide an opportunity to reflect on and better understand your own personal conflict style, as well as how to recognize conflict dynamics in others. Effectively managing your conflict dynamics, and understanding the responses of others, can help maintain productive relationships, shorten the length of the conflict, and reduce stress associated with the conflict.</p>
  <p>What You Will Learn</p>
  <p>* An understanding of conflict dynamics
  * An increased awareness of conflict triggers, emotions and behavior responses
  * An understanding of how triggers and behavioral responses might look in others
  * Strategies for calming triggers</p>\n\nIf you need an accommodation to participate in this event, please contact the event sponsor or the Texas Law Special Events Office at specialevents@law.utexas.edu no later than seven business days prior to the event.
X-ALT-DESC;FMTTYPE=text/html:<p>We experience conflict every day, whether at work, home or interacting with the public. This class will provide an opportunity to reflect on and better understand your own personal conflict style, as well as how to recognize conflict dynamics in others. Effectively managing your conflict dynamics, and understanding the responses of others, can help maintain productive relationships, shorten the length of the conflict, and reduce stress associated with the conflict.</p>
  <p>What You Will Learn</p>
  <p>* An understanding of conflict dynamics
  * An increased awareness of conflict triggers, emotions and behavior responses
  * An understanding of how triggers and behavioral responses might look in others
  * Strategies for calming triggers</p><p>If you need an accommodation to participate in this event, please contact the event
                                          event sponsor or the Texas Law Special Events Office at <a href="mailto:specialevents@law.utexas.edu">specialevents@law.utexas.edu</a> no later than seven business days prior to the event.</p>
CATEGORIES:Workshop / Training Program
LOCATION:
URL:http://law.utexas.edu/calendar/2017/12/08/33464/
CLASS:PUBLIC
STATUS:CONFIRMED
COMMENT:https://law.utexas.edu/cppdr/training/understanding-and-managing-conflict-dynamics/
END:VEVENT
END:VCALENDAR