BEGIN:VCALENDAR
VERSION:2.0
PRODID:-//UNIVERSITY OF TEXAS SCHOOL OF LAW//NONSGML Events Calendar v1.0//EN
X-WR-TIMEZONE:America/Chicago
BEGIN:VTIMEZONE
TZID:US/Central
X-LIC-LOCATION:America/Chicago
BEGIN:DAYLIGHT
TZOFFSETFROM:-0600
TZOFFSETTO:-0500
TZNAME:CDT
DTSTART:19700308T020000
RRULE:FREQ=YEARLY;BYMONTH=3;BYDAY=2SU
END:DAYLIGHT
BEGIN:STANDARD
TZOFFSETFROM:-0500
TZOFFSETTO:-0600
TZNAME:CST
DTSTART:19701101T020000
RRULE:FREQ=YEARLY;BYMONTH=11;BYDAY=1SU
END:STANDARD
END:VTIMEZONE
BEGIN:VEVENT
DTSTART;TZID=US/Central:20180111T183000
DTEND;VALUE=DATE-TIME;TZID=US/Central:20180111T203000

DTSTAMP:20260419T153400Z
CREATED:20171114T220900Z
LAST-MODIFIED:20171114T220900Z
UID:20180111T183000-34885@law.utexas.edu
SUMMARY:New York Alumni Happy Hour
DESCRIPTION:<p>New York Alumni Happy Hour
  Thursday, January 11, 2018</p>
  <p>Morgan's Barbecue, 267 Flatbush Ave, Brooklyn, NY 11217 
  6:30 - 8:30 p.m.</p>\n\nIf you need an accommodation to participate in this event, please contact the event sponsor or the Texas Law Special Events Office at specialevents@law.utexas.edu no later than seven business days prior to the event.
X-ALT-DESC;FMTTYPE=text/html:<p>New York Alumni Happy Hour
  Thursday, January 11, 2018</p>
  <p>Morgan's Barbecue, 267 Flatbush Ave, Brooklyn, NY 11217 
  6:30 - 8:30 p.m.</p><p>If you need an accommodation to participate in this event, please contact the event
                                          event sponsor or the Texas Law Special Events Office at <a href="mailto:specialevents@law.utexas.edu">specialevents@law.utexas.edu</a> no later than seven business days prior to the event.</p>


URL:http://law.utexas.edu/calendar/2018/01/11/34885/
CLASS:PUBLIC
STATUS:CONFIRMED

END:VEVENT
END:VCALENDAR