BEGIN:VCALENDAR
VERSION:2.0
PRODID:-//UNIVERSITY OF TEXAS SCHOOL OF LAW//NONSGML Events Calendar v1.0//EN
X-WR-TIMEZONE:America/Chicago
BEGIN:VTIMEZONE
TZID:US/Central
X-LIC-LOCATION:America/Chicago
BEGIN:DAYLIGHT
TZOFFSETFROM:-0600
TZOFFSETTO:-0500
TZNAME:CDT
DTSTART:19700308T020000
RRULE:FREQ=YEARLY;BYMONTH=3;BYDAY=2SU
END:DAYLIGHT
BEGIN:STANDARD
TZOFFSETFROM:-0500
TZOFFSETTO:-0600
TZNAME:CST
DTSTART:19701101T020000
RRULE:FREQ=YEARLY;BYMONTH=11;BYDAY=1SU
END:STANDARD
END:VTIMEZONE
BEGIN:VEVENT
DTSTART;TZID=US/Central:20180118T120000
DTEND;VALUE=DATE-TIME;TZID=US/Central:20180118T140000

DTSTAMP:20260419T203000Z
CREATED:20171120T180000Z
LAST-MODIFIED:20180109T220100Z
UID:20180118T120000-35044@law.utexas.edu
SUMMARY:Winning a Federal Jury Verdict
DESCRIPTION:<p>Cameron Byrd ('15) and Kelsi Stayart White ('15), Lawyers at AZA in Houston, are joining Professor Jay Westbrook and Professor Tracy McCormack for a discussion about the insights they've learned from their recent federal jury trial win, including: Why you should take classes like Secured Credit; How to turn complex legal ideas in to plain English; How 2 second-year UT Law grads won a federal jury verdict; And, how they got the opportunity in the first place. </p>
  <p>Lunch will be provided courtesy of AZA.</p>\n\nIf you need an accommodation to participate in this event, please contact the event sponsor or the Texas Law Special Events Office at specialevents@law.utexas.edu no later than seven business days prior to the event.
X-ALT-DESC;FMTTYPE=text/html:<p>Cameron Byrd ('15) and Kelsi Stayart White ('15), Lawyers at AZA in Houston, are joining Professor Jay Westbrook and Professor Tracy McCormack for a discussion about the insights they've learned from their recent federal jury trial win, including: Why you should take classes like Secured Credit; How to turn complex legal ideas in to plain English; How 2 second-year UT Law grads won a federal jury verdict; And, how they got the opportunity in the first place. </p>
  <p>Lunch will be provided courtesy of AZA.</p><p>If you need an accommodation to participate in this event, please contact the event
                                          event sponsor or the Texas Law Special Events Office at <a href="mailto:specialevents@law.utexas.edu">specialevents@law.utexas.edu</a> no later than seven business days prior to the event.</p>
CATEGORIES:Panel Discussion / Speaker Series
LOCATION:TNH 2.139 - Wilson Classroom
URL:http://law.utexas.edu/calendar/2018/01/18/35044/
CLASS:PUBLIC
STATUS:CONFIRMED

END:VEVENT
END:VCALENDAR