BEGIN:VCALENDAR
VERSION:2.0
PRODID:-//UNIVERSITY OF TEXAS SCHOOL OF LAW//NONSGML Events Calendar v1.0//EN
X-WR-TIMEZONE:America/Chicago
BEGIN:VTIMEZONE
TZID:US/Central
X-LIC-LOCATION:America/Chicago
BEGIN:DAYLIGHT
TZOFFSETFROM:-0600
TZOFFSETTO:-0500
TZNAME:CDT
DTSTART:19700308T020000
RRULE:FREQ=YEARLY;BYMONTH=3;BYDAY=2SU
END:DAYLIGHT
BEGIN:STANDARD
TZOFFSETFROM:-0500
TZOFFSETTO:-0600
TZNAME:CST
DTSTART:19701101T020000
RRULE:FREQ=YEARLY;BYMONTH=11;BYDAY=1SU
END:STANDARD
END:VTIMEZONE
BEGIN:VEVENT
DTSTART;TZID=US/Central:20180119T114500
DTEND;VALUE=DATE-TIME;TZID=US/Central:20180119T130000

DTSTAMP:20260419T202900Z
CREATED:20171121T003600Z
LAST-MODIFIED:20180117T175600Z
UID:20180119T114500-35064@law.utexas.edu
SUMMARY:How to Rock Your Legal Interviews
DESCRIPTION:<p>Join us for this interactive program designed to prepare you to ace every interview. You will identify your unique professional strengths and practice putting those strengths in the most favorable light to ensure your best chance at getting a job offer. You will leave the program with confidence in your ability to both prepare for and rock every interview whether it’s in the private or public sector.</p>
   
  <p>Led by <a href="https://sarahdcarlson.com/">Sarah D. Carlson</a>, a Wall Street attorney and international volunteer turned career coach and professor. Specializing in the Art of Professional Narrative and Self-Advocacy, Sarah mentors and coaches hundreds of law students and lawyers throughout the country on all aspects of their careers.</p>
  <p>Lunch will be served. RSVP by Thursday, January 18, on <a href="https://law-utexas-csm.symplicity.com/students/"> Symplicity</a> by selecting the "Events" tab.</p>\n\nIf you need an accommodation to participate in this event, please contact the event sponsor or the Texas Law Special Events Office at specialevents@law.utexas.edu no later than seven business days prior to the event.
X-ALT-DESC;FMTTYPE=text/html:<p>Join us for this interactive program designed to prepare you to ace every interview. You will identify your unique professional strengths and practice putting those strengths in the most favorable light to ensure your best chance at getting a job offer. You will leave the program with confidence in your ability to both prepare for and rock every interview whether it’s in the private or public sector.</p>
   
  <p>Led by <a href="https://sarahdcarlson.com/">Sarah D. Carlson</a>, a Wall Street attorney and international volunteer turned career coach and professor. Specializing in the Art of Professional Narrative and Self-Advocacy, Sarah mentors and coaches hundreds of law students and lawyers throughout the country on all aspects of their careers.</p>
  <p>Lunch will be served. RSVP by Thursday, January 18, on <a href="https://law-utexas-csm.symplicity.com/students/"> Symplicity</a> by selecting the "Events" tab.</p><p>If you need an accommodation to participate in this event, please contact the event
                                          event sponsor or the Texas Law Special Events Office at <a href="mailto:specialevents@law.utexas.edu">specialevents@law.utexas.edu</a> no later than seven business days prior to the event.</p>
CATEGORIES:Workshop / Training Program
LOCATION:TNH 2.114 - Francis Auditorium
URL:http://law.utexas.edu/calendar/2018/01/19/35064/
CLASS:PUBLIC
STATUS:CONFIRMED
COMMENT:Please contact Nicole Simmons, Director of Professional Development, at <a href="mailto:nsimmons@law.utexas.edu">nsimmons@law.utexas.edu</a>.
END:VEVENT
END:VCALENDAR