BEGIN:VCALENDAR
VERSION:2.0
PRODID:-//UNIVERSITY OF TEXAS SCHOOL OF LAW//NONSGML Events Calendar v1.0//EN
X-WR-TIMEZONE:America/Chicago
BEGIN:VTIMEZONE
TZID:US/Central
X-LIC-LOCATION:America/Chicago
BEGIN:DAYLIGHT
TZOFFSETFROM:-0600
TZOFFSETTO:-0500
TZNAME:CDT
DTSTART:19700308T020000
RRULE:FREQ=YEARLY;BYMONTH=3;BYDAY=2SU
END:DAYLIGHT
BEGIN:STANDARD
TZOFFSETFROM:-0500
TZOFFSETTO:-0600
TZNAME:CST
DTSTART:19701101T020000
RRULE:FREQ=YEARLY;BYMONTH=11;BYDAY=1SU
END:STANDARD
END:VTIMEZONE
BEGIN:VEVENT
DTSTART;TZID=US/Central:20180122T160000
DTEND;VALUE=DATE-TIME;TZID=US/Central:20180122T170000

DTSTAMP:20260419T202700Z
CREATED:20171207T200800Z
LAST-MODIFIED:20180119T210900Z
UID:20180122T160000-35429@law.utexas.edu
SUMMARY:Akin Gump Pro Bono Scholar Info Session
DESCRIPTION:<p>Please join David Botter, Firmwide Hiring Partner, and Lauren Connell, Pro Bono Counsel, to learn about pro bono at large law firms and <a href="https://www.akingump.com/en/careers/students/pro-bono/pro-bono-scholars-program-overview.html">Akin Gump’s 2018 Pro Bono Scholars Program</a>. The Akin Gump Summer Pro Bono Scholars Program provides top first-year law students interested in law firm practice the opportunity to develop an early expertise in public interest law. The skills acquired during this program build a foundation for pro bono work and billable practice that will serve participants throughout their careers. The program spans two summers, with the Pro Bono Scholars working both at the firm and at a public interest organization during the first summer as rising 2Ls. The next summer as a rising 3L, the Pro Bono Scholars join the firm as participants in the firm’s general summer associate program. In 2018, the Pro Bono Scholars Program will be offered in their Dallas, Houston, Los Angeles, New York, and Washington, D.C. offices. <a href="https://www.akingump.com/en/careers/students/pro-bono/pro-bono-scholars-program-overview.html">Applications</a> available January 2-February 16, 2018.</p>
  <p>RSVP by Friday, January 19, on <a href="https://law-utexas-csm.symplicity.com/students/"> Symplicity</a> by selecting the "Events" tab.</p>\n\nIf you need an accommodation to participate in this event, please contact the event sponsor or the Texas Law Special Events Office at specialevents@law.utexas.edu no later than seven business days prior to the event.
X-ALT-DESC;FMTTYPE=text/html:<p>Please join David Botter, Firmwide Hiring Partner, and Lauren Connell, Pro Bono Counsel, to learn about pro bono at large law firms and <a href="https://www.akingump.com/en/careers/students/pro-bono/pro-bono-scholars-program-overview.html">Akin Gump’s 2018 Pro Bono Scholars Program</a>. The Akin Gump Summer Pro Bono Scholars Program provides top first-year law students interested in law firm practice the opportunity to develop an early expertise in public interest law. The skills acquired during this program build a foundation for pro bono work and billable practice that will serve participants throughout their careers. The program spans two summers, with the Pro Bono Scholars working both at the firm and at a public interest organization during the first summer as rising 2Ls. The next summer as a rising 3L, the Pro Bono Scholars join the firm as participants in the firm’s general summer associate program. In 2018, the Pro Bono Scholars Program will be offered in their Dallas, Houston, Los Angeles, New York, and Washington, D.C. offices. <a href="https://www.akingump.com/en/careers/students/pro-bono/pro-bono-scholars-program-overview.html">Applications</a> available January 2-February 16, 2018.</p>
  <p>RSVP by Friday, January 19, on <a href="https://law-utexas-csm.symplicity.com/students/"> Symplicity</a> by selecting the "Events" tab.</p><p>If you need an accommodation to participate in this event, please contact the event
                                          event sponsor or the Texas Law Special Events Office at <a href="mailto:specialevents@law.utexas.edu">specialevents@law.utexas.edu</a> no later than seven business days prior to the event.</p>
CATEGORIES:Workshop / Training Program
LOCATION:TNH 2.111 - Sheffield-Massey Room
URL:http://law.utexas.edu/calendar/2018/01/22/35429/
CLASS:PUBLIC
STATUS:CONFIRMED
COMMENT:Please contact Lawson Konvanlinka, Public Interest Career Counselor, at <a href="mailto:lkonvalinka@law.utexas.edu">lkonvalinka@law.utexas.edu</a>.
END:VEVENT
END:VCALENDAR