BEGIN:VCALENDAR
VERSION:2.0
PRODID:-//UNIVERSITY OF TEXAS SCHOOL OF LAW//NONSGML Events Calendar v1.0//EN
X-WR-TIMEZONE:America/Chicago
BEGIN:VTIMEZONE
TZID:US/Central
X-LIC-LOCATION:America/Chicago
BEGIN:DAYLIGHT
TZOFFSETFROM:-0600
TZOFFSETTO:-0500
TZNAME:CDT
DTSTART:19700308T020000
RRULE:FREQ=YEARLY;BYMONTH=3;BYDAY=2SU
END:DAYLIGHT
BEGIN:STANDARD
TZOFFSETFROM:-0500
TZOFFSETTO:-0600
TZNAME:CST
DTSTART:19701101T020000
RRULE:FREQ=YEARLY;BYMONTH=11;BYDAY=1SU
END:STANDARD
END:VTIMEZONE
BEGIN:VEVENT
DTSTART;TZID=US/Central:20180123T113000
DTEND;VALUE=DATE-TIME;TZID=US/Central:20180123T130000

DTSTAMP:20260419T152800Z
CREATED:20171204T224600Z
LAST-MODIFIED:20180103T233400Z
UID:20180123T113000-35324@law.utexas.edu
SUMMARY:Public Service Resume Workshop
DESCRIPTION:<p>Come learn about best practices in cover letter and resume preparation for Government and Public Interest employers. Even if you have already submitted your materials to employers for the Public Service Career Fair, you can bring an updated resume to your interviews.</p>
  <p>Food will be served. RSVP by Monday, January 22, on <a href="https://law-utexas-csm.symplicity.com/students/"> Symplicity</a> by selecting the "Events" tab.</p>\n\nIf you need an accommodation to participate in this event, please contact the event sponsor or the Texas Law Special Events Office at specialevents@law.utexas.edu no later than seven business days prior to the event.
X-ALT-DESC;FMTTYPE=text/html:<p>Come learn about best practices in cover letter and resume preparation for Government and Public Interest employers. Even if you have already submitted your materials to employers for the Public Service Career Fair, you can bring an updated resume to your interviews.</p>
  <p>Food will be served. RSVP by Monday, January 22, on <a href="https://law-utexas-csm.symplicity.com/students/"> Symplicity</a> by selecting the "Events" tab.</p><p>If you need an accommodation to participate in this event, please contact the event
                                          event sponsor or the Texas Law Special Events Office at <a href="mailto:specialevents@law.utexas.edu">specialevents@law.utexas.edu</a> no later than seven business days prior to the event.</p>
CATEGORIES:Workshop / Training Program
LOCATION:TNH 2.138 - Blanton Classroom
URL:http://law.utexas.edu/calendar/2018/01/23/35324/
CLASS:PUBLIC
STATUS:CONFIRMED
COMMENT:Please contact Lawson Konvanlinka, Public Interest Career Counselor, at <a href="mailto:lkonvalinka@law.utexas.edu">lkonvalinka@law.utexas.edu</a> or Kaycee Crisp, Government Career Counselor, at <a href="mailto:kcrisp@law.utexas.edu">kcrisp@law.utexas.edu</a>.
END:VEVENT
END:VCALENDAR