BEGIN:VCALENDAR
VERSION:2.0
PRODID:-//UNIVERSITY OF TEXAS SCHOOL OF LAW//NONSGML Events Calendar v1.0//EN
X-WR-TIMEZONE:America/Chicago
BEGIN:VTIMEZONE
TZID:US/Central
X-LIC-LOCATION:America/Chicago
BEGIN:DAYLIGHT
TZOFFSETFROM:-0600
TZOFFSETTO:-0500
TZNAME:CDT
DTSTART:19700308T020000
RRULE:FREQ=YEARLY;BYMONTH=3;BYDAY=2SU
END:DAYLIGHT
BEGIN:STANDARD
TZOFFSETFROM:-0500
TZOFFSETTO:-0600
TZNAME:CST
DTSTART:19701101T020000
RRULE:FREQ=YEARLY;BYMONTH=11;BYDAY=1SU
END:STANDARD
END:VTIMEZONE
BEGIN:VEVENT
DTSTART;TZID=US/Central:20180123T120000
DTEND;VALUE=DATE-TIME;TZID=US/Central:20180123T130000

DTSTAMP:20260419T202600Z
CREATED:20171221T190900Z
LAST-MODIFIED:20180122T162000Z
UID:20180123T120000-35705@law.utexas.edu
SUMMARY:The Good, the Bad, and the Ugly
DESCRIPTION:<p>
  Laura Capper, Principal CAP Resources, discusses findings from her firms’ research and publications related to Oilfield Water Management and Disposal Well Environmental Risk Management in Upstream Oil and Gas.  Topics covered include current practices in water recycling and reuse including opportunities and barriers, the root causes of induced seismic activity, potential impacts of seismicity, regional trends on wells pressuring up, regulatory changes and impacts, potential future impacts on upstream operations, plausible alternatives for SWD disposal, and mitigating practices industry can employ today. </p>
  <p>This event if free to attend. Lunch will be provided.</p>
  <p>RSVP required. RSVP at <a href="http://attend.com/capper2018">http://attend.com/capper2018</a>
  </p>\n\nIf you need an accommodation to participate in this event, please contact the event sponsor or the Texas Law Special Events Office at specialevents@law.utexas.edu no later than seven business days prior to the event.
X-ALT-DESC;FMTTYPE=text/html:<p>
  Laura Capper, Principal CAP Resources, discusses findings from her firms’ research and publications related to Oilfield Water Management and Disposal Well Environmental Risk Management in Upstream Oil and Gas.  Topics covered include current practices in water recycling and reuse including opportunities and barriers, the root causes of induced seismic activity, potential impacts of seismicity, regional trends on wells pressuring up, regulatory changes and impacts, potential future impacts on upstream operations, plausible alternatives for SWD disposal, and mitigating practices industry can employ today. </p>
  <p>This event if free to attend. Lunch will be provided.</p>
  <p>RSVP required. RSVP at <a href="http://attend.com/capper2018">http://attend.com/capper2018</a>
  </p><p>If you need an accommodation to participate in this event, please contact the event
                                          event sponsor or the Texas Law Special Events Office at <a href="mailto:specialevents@law.utexas.edu">specialevents@law.utexas.edu</a> no later than seven business days prior to the event.</p>
CATEGORIES:Panel Discussion / Speaker Series
LOCATION:TNH 2.111 - Sheffield-Massey Room
URL:http://law.utexas.edu/calendar/2018/01/23/35705/
CLASS:PUBLIC
STATUS:CONFIRMED

END:VEVENT
END:VCALENDAR