BEGIN:VCALENDAR
VERSION:2.0
PRODID:-//UNIVERSITY OF TEXAS SCHOOL OF LAW//NONSGML Events Calendar v1.0//EN
X-WR-TIMEZONE:America/Chicago
BEGIN:VTIMEZONE
TZID:US/Central
X-LIC-LOCATION:America/Chicago
BEGIN:DAYLIGHT
TZOFFSETFROM:-0600
TZOFFSETTO:-0500
TZNAME:CDT
DTSTART:19700308T020000
RRULE:FREQ=YEARLY;BYMONTH=3;BYDAY=2SU
END:DAYLIGHT
BEGIN:STANDARD
TZOFFSETFROM:-0500
TZOFFSETTO:-0600
TZNAME:CST
DTSTART:19701101T020000
RRULE:FREQ=YEARLY;BYMONTH=11;BYDAY=1SU
END:STANDARD
END:VTIMEZONE
BEGIN:VEVENT
DTSTART;TZID=US/Central:20180123T114500
DTEND;VALUE=DATE-TIME;TZID=US/Central:20180123T130000

DTSTAMP:20260419T202800Z
CREATED:20180103T173700Z
LAST-MODIFIED:20180109T161500Z
UID:20180123T114500-35804@law.utexas.edu
SUMMARY:Judicial Clrkshps: Successful Interviewi
DESCRIPTION:<p>Instructions and tips on how to be a successful interviewer for judicial clerkship positions. 2Ls and 3Ls welcome. Lunch will be provided, RSVP on Symplicity by Monday, 1/22.</p>\n\nIf you need an accommodation to participate in this event, please contact the event sponsor or the Texas Law Special Events Office at specialevents@law.utexas.edu no later than seven business days prior to the event.
X-ALT-DESC;FMTTYPE=text/html:<p>Instructions and tips on how to be a successful interviewer for judicial clerkship positions. 2Ls and 3Ls welcome. Lunch will be provided, RSVP on Symplicity by Monday, 1/22.</p><p>If you need an accommodation to participate in this event, please contact the event
                                          event sponsor or the Texas Law Special Events Office at <a href="mailto:specialevents@law.utexas.edu">specialevents@law.utexas.edu</a> no later than seven business days prior to the event.</p>
CATEGORIES:Other
LOCATION:TNH 2.140 - Wright Classroom
URL:http://law.utexas.edu/calendar/2018/01/23/35804/
CLASS:PUBLIC
STATUS:CONFIRMED
COMMENT:clerk-admin@law.utexas.edu
END:VEVENT
END:VCALENDAR