BEGIN:VCALENDAR
VERSION:2.0
PRODID:-//UNIVERSITY OF TEXAS SCHOOL OF LAW//NONSGML Events Calendar v1.0//EN
X-WR-TIMEZONE:America/Chicago
BEGIN:VTIMEZONE
TZID:US/Central
X-LIC-LOCATION:America/Chicago
BEGIN:DAYLIGHT
TZOFFSETFROM:-0600
TZOFFSETTO:-0500
TZNAME:CDT
DTSTART:19700308T020000
RRULE:FREQ=YEARLY;BYMONTH=3;BYDAY=2SU
END:DAYLIGHT
BEGIN:STANDARD
TZOFFSETFROM:-0500
TZOFFSETTO:-0600
TZNAME:CST
DTSTART:19701101T020000
RRULE:FREQ=YEARLY;BYMONTH=11;BYDAY=1SU
END:STANDARD
END:VTIMEZONE
BEGIN:VEVENT
DTSTART;TZID=US/Central:20180130T160000
DTEND;VALUE=DATE-TIME;TZID=US/Central:20180130T173000

DTSTAMP:20260419T185700Z
CREATED:20171214T210300Z
LAST-MODIFIED:20180124T192400Z
UID:20180130T160000-35584@law.utexas.edu
SUMMARY:L.B. Eisen, "Inside Private Prisons"
DESCRIPTION:<p>Please join the Rapoport Center for an event featuring Lauren-Brooke "L.B" Eisen, Senior Counsel in the Brennan Center’s Justice Program at NYU Law. Eisen focuses on improving the criminal justice process through legal reforms, specifically how the criminal justice system is funded. Eisen is the author of "Inside Private Prisons: An American Dilemma in the Age of Mass Incarceration," which was published by  Columbia University Press (2017). </p>\n\nIf you need an accommodation to participate in this event, please contact the event sponsor or the Texas Law Special Events Office at specialevents@law.utexas.edu no later than seven business days prior to the event. Speaker: L.B. Eisen, S, NYU Law
X-ALT-DESC;FMTTYPE=text/html:<p>Please join the Rapoport Center for an event featuring Lauren-Brooke "L.B" Eisen, Senior Counsel in the Brennan Center’s Justice Program at NYU Law. Eisen focuses on improving the criminal justice process through legal reforms, specifically how the criminal justice system is funded. Eisen is the author of "Inside Private Prisons: An American Dilemma in the Age of Mass Incarceration," which was published by  Columbia University Press (2017). </p><p>If you need an accommodation to participate in this event, please contact the event
                                          event sponsor or the Texas Law Special Events Office at <a href="mailto:specialevents@law.utexas.edu">specialevents@law.utexas.edu</a> no later than seven business days prior to the event.</p> Speaker: L.B. Eisen, S, NYU Law

LOCATION:TNH 2.111 - Sheffield-Massey Room
URL:http://law.utexas.edu/calendar/2018/01/30/35584/
CLASS:PUBLIC
STATUS:CONFIRMED

END:VEVENT
END:VCALENDAR