BEGIN:VCALENDAR
VERSION:2.0
PRODID:-//UNIVERSITY OF TEXAS SCHOOL OF LAW//NONSGML Events Calendar v1.0//EN
X-WR-TIMEZONE:America/Chicago
BEGIN:VTIMEZONE
TZID:US/Central
X-LIC-LOCATION:America/Chicago
BEGIN:DAYLIGHT
TZOFFSETFROM:-0600
TZOFFSETTO:-0500
TZNAME:CDT
DTSTART:19700308T020000
RRULE:FREQ=YEARLY;BYMONTH=3;BYDAY=2SU
END:DAYLIGHT
BEGIN:STANDARD
TZOFFSETFROM:-0500
TZOFFSETTO:-0600
TZNAME:CST
DTSTART:19701101T020000
RRULE:FREQ=YEARLY;BYMONTH=11;BYDAY=1SU
END:STANDARD
END:VTIMEZONE
BEGIN:VEVENT
DTSTART;TZID=US/Central:20180131T113000
DTEND;VALUE=DATE-TIME;TZID=US/Central:20180131T161500

DTSTAMP:20260419T212300Z
CREATED:20180125T150000Z
LAST-MODIFIED:20180129T151400Z
UID:20180131T113000-36326@law.utexas.edu
SUMMARY:WWJC Tabling
DESCRIPTION:<p>Do you have questions about Public Service Career Fair interviews, public interest job searches, summer funding, or fellowships? Would you like to find other students who share your professional interests?</p>
  <p>The Justice Center staff and students are available to help! We’ll be tabling:</p>
  <p>Monday, January 29:
  12:30 - 1; 3:15 - 4:15 - Atrium</p>
  <p>Tuesday, January 30:
  11:30 - 1; 3:15 - 4:15 - Atrium</p>
  <p>Wednesday, January 31:
  11:30 - 12:30; 3:15 - 3:45 - 1L Hallway</p>\n\nIf you need an accommodation to participate in this event, please contact the event sponsor or the Texas Law Special Events Office at specialevents@law.utexas.edu no later than seven business days prior to the event.
X-ALT-DESC;FMTTYPE=text/html:<p>Do you have questions about Public Service Career Fair interviews, public interest job searches, summer funding, or fellowships? Would you like to find other students who share your professional interests?</p>
  <p>The Justice Center staff and students are available to help! We’ll be tabling:</p>
  <p>Monday, January 29:
  12:30 - 1; 3:15 - 4:15 - Atrium</p>
  <p>Tuesday, January 30:
  11:30 - 1; 3:15 - 4:15 - Atrium</p>
  <p>Wednesday, January 31:
  11:30 - 12:30; 3:15 - 3:45 - 1L Hallway</p><p>If you need an accommodation to participate in this event, please contact the event
                                          event sponsor or the Texas Law Special Events Office at <a href="mailto:specialevents@law.utexas.edu">specialevents@law.utexas.edu</a> no later than seven business days prior to the event.</p>
CATEGORIES:Other
LOCATION:1L Hallway
URL:http://law.utexas.edu/calendar/2018/01/31/36326/
CLASS:PUBLIC
STATUS:CONFIRMED

END:VEVENT
END:VCALENDAR