BEGIN:VCALENDAR
VERSION:2.0
PRODID:-//UNIVERSITY OF TEXAS SCHOOL OF LAW//NONSGML Events Calendar v1.0//EN
X-WR-TIMEZONE:America/Chicago
BEGIN:VTIMEZONE
TZID:US/Central
X-LIC-LOCATION:America/Chicago
BEGIN:DAYLIGHT
TZOFFSETFROM:-0600
TZOFFSETTO:-0500
TZNAME:CDT
DTSTART:19700308T020000
RRULE:FREQ=YEARLY;BYMONTH=3;BYDAY=2SU
END:DAYLIGHT
BEGIN:STANDARD
TZOFFSETFROM:-0500
TZOFFSETTO:-0600
TZNAME:CST
DTSTART:19701101T020000
RRULE:FREQ=YEARLY;BYMONTH=11;BYDAY=1SU
END:STANDARD
END:VTIMEZONE
BEGIN:VEVENT
DTSTART;TZID=US/Central:20180201


DTSTAMP:20260419T152700Z
CREATED:20170705T163900Z
LAST-MODIFIED:20180131T160200Z
UID:20180201T000000-31644@law.utexas.edu
SUMMARY:Public Service Career Fair (Day I)
DESCRIPTION:<p>Hosted annually by the Texas Law Career Services Office, Public Service Career Fair (PSCF) is the largest public service job fair for law students in Texas. During both days of PSCF, which will be held February 1-2, 2018, public interest and government employers will conduct on-campus interviews for paid and unpaid summer and permanent positions in the Career Services Interview Suite and around the rest of the law school. On Thursday, February 1, certain employers will also host informational tables in the Law School's Susman Godfrey Atrium from 11:00 a.m. to 1:00 p.m.</p>\n\nIf you need an accommodation to participate in this event, please contact the event sponsor or the Texas Law Special Events Office at specialevents@law.utexas.edu no later than seven business days prior to the event.
X-ALT-DESC;FMTTYPE=text/html:<p>Hosted annually by the Texas Law Career Services Office, Public Service Career Fair (PSCF) is the largest public service job fair for law students in Texas. During both days of PSCF, which will be held February 1-2, 2018, public interest and government employers will conduct on-campus interviews for paid and unpaid summer and permanent positions in the Career Services Interview Suite and around the rest of the law school. On Thursday, February 1, certain employers will also host informational tables in the Law School's Susman Godfrey Atrium from 11:00 a.m. to 1:00 p.m.</p><p>If you need an accommodation to participate in this event, please contact the event
                                          event sponsor or the Texas Law Special Events Office at <a href="mailto:specialevents@law.utexas.edu">specialevents@law.utexas.edu</a> no later than seven business days prior to the event.</p>
CATEGORIES:Interview Program
LOCATION:TNH 2.100 - Susman Godfrey Atrium
URL:http://law.utexas.edu/calendar/2018/02/01/31644/
CLASS:PUBLIC
STATUS:CONFIRMED
COMMENT:Please contact Kaycee Crisp, Government Career Counselor, at <a href="mailto:kcrisp@law.utexas.edu">kcrisp@law.utexas.edu</a>.
END:VEVENT
END:VCALENDAR