BEGIN:VCALENDAR
VERSION:2.0
PRODID:-//UNIVERSITY OF TEXAS SCHOOL OF LAW//NONSGML Events Calendar v1.0//EN
X-WR-TIMEZONE:America/Chicago
BEGIN:VTIMEZONE
TZID:US/Central
X-LIC-LOCATION:America/Chicago
BEGIN:DAYLIGHT
TZOFFSETFROM:-0600
TZOFFSETTO:-0500
TZNAME:CDT
DTSTART:19700308T020000
RRULE:FREQ=YEARLY;BYMONTH=3;BYDAY=2SU
END:DAYLIGHT
BEGIN:STANDARD
TZOFFSETFROM:-0500
TZOFFSETTO:-0600
TZNAME:CST
DTSTART:19701101T020000
RRULE:FREQ=YEARLY;BYMONTH=11;BYDAY=1SU
END:STANDARD
END:VTIMEZONE
BEGIN:VEVENT
DTSTART;TZID=US/Central:20180206T183000
DTEND;VALUE=DATE-TIME;TZID=US/Central:20180206T203000

DTSTAMP:20260419T152600Z
CREATED:20180122T235300Z
LAST-MODIFIED:20180122T235300Z
UID:20180206T183000-36227@law.utexas.edu
SUMMARY:Trivia Night
DESCRIPTION:<p>Location: Half Step (75 1/2 Rainey Street)
  Time: 6:30-8:30pm</p>
  <p>Compete against fellow law students and peers to win $2,000 while enjoying appetizers and drinks courtesy of the Bloomberg Law team. Teams will consist of 3-5 students. </p>
  <p>Participants must be currently enrolled in law school and have an active Bloomberg Law account to participate.</p>
  <p>Register here: <a href="http://about.bna.com/2018-trivia">http://about.bna.com/2018-trivia</a></p>\n\nIf you need an accommodation to participate in this event, please contact the event sponsor or the Texas Law Special Events Office at specialevents@law.utexas.edu no later than seven business days prior to the event.
X-ALT-DESC;FMTTYPE=text/html:<p>Location: Half Step (75 1/2 Rainey Street)
  Time: 6:30-8:30pm</p>
  <p>Compete against fellow law students and peers to win $2,000 while enjoying appetizers and drinks courtesy of the Bloomberg Law team. Teams will consist of 3-5 students. </p>
  <p>Participants must be currently enrolled in law school and have an active Bloomberg Law account to participate.</p>
  <p>Register here: <a href="http://about.bna.com/2018-trivia">http://about.bna.com/2018-trivia</a></p><p>If you need an accommodation to participate in this event, please contact the event
                                          event sponsor or the Texas Law Special Events Office at <a href="mailto:specialevents@law.utexas.edu">specialevents@law.utexas.edu</a> no later than seven business days prior to the event.</p>
CATEGORIES:Other

URL:http://law.utexas.edu/calendar/2018/02/06/36227/
CLASS:PUBLIC
STATUS:CONFIRMED

END:VEVENT
END:VCALENDAR