BEGIN:VCALENDAR
VERSION:2.0
PRODID:-//UNIVERSITY OF TEXAS SCHOOL OF LAW//NONSGML Events Calendar v1.0//EN
X-WR-TIMEZONE:America/Chicago
BEGIN:VTIMEZONE
TZID:US/Central
X-LIC-LOCATION:America/Chicago
BEGIN:DAYLIGHT
TZOFFSETFROM:-0600
TZOFFSETTO:-0500
TZNAME:CDT
DTSTART:19700308T020000
RRULE:FREQ=YEARLY;BYMONTH=3;BYDAY=2SU
END:DAYLIGHT
BEGIN:STANDARD
TZOFFSETFROM:-0500
TZOFFSETTO:-0600
TZNAME:CST
DTSTART:19701101T020000
RRULE:FREQ=YEARLY;BYMONTH=11;BYDAY=1SU
END:STANDARD
END:VTIMEZONE
BEGIN:VEVENT
DTSTART;TZID=US/Central:20180207T114500
DTEND;VALUE=DATE-TIME;TZID=US/Central:20180207T130000

DTSTAMP:20260419T135400Z
CREATED:20170928T223500Z
LAST-MODIFIED:20170928T223500Z
UID:20180207T114500-33664@law.utexas.edu
SUMMARY:Hunton &amp; Williams Luncheon
DESCRIPTION:<p>Hiring and practicing attorneys from Hunton &amp; Williams come to educate students on the firm, the work that they do and diversity in the workplace. Attorneys provide guidance to law students on how to become involved and successful in the big law field. </p>\n\nIf you need an accommodation to participate in this event, please contact the event sponsor or the Texas Law Special Events Office at specialevents@law.utexas.edu no later than seven business days prior to the event.
X-ALT-DESC;FMTTYPE=text/html:<p>Hiring and practicing attorneys from Hunton &amp; Williams come to educate students on the firm, the work that they do and diversity in the workplace. Attorneys provide guidance to law students on how to become involved and successful in the big law field. </p><p>If you need an accommodation to participate in this event, please contact the event
                                          event sponsor or the Texas Law Special Events Office at <a href="mailto:specialevents@law.utexas.edu">specialevents@law.utexas.edu</a> no later than seven business days prior to the event.</p>
CATEGORIES:Panel Discussion / Speaker Series
LOCATION:TNH 2.138 - Blanton Classroom
URL:http://law.utexas.edu/calendar/2018/02/07/33664/
CLASS:PUBLIC
STATUS:CONFIRMED

END:VEVENT
END:VCALENDAR