BEGIN:VCALENDAR
VERSION:2.0
PRODID:-//UNIVERSITY OF TEXAS SCHOOL OF LAW//NONSGML Events Calendar v1.0//EN
X-WR-TIMEZONE:America/Chicago
BEGIN:VTIMEZONE
TZID:US/Central
X-LIC-LOCATION:America/Chicago
BEGIN:DAYLIGHT
TZOFFSETFROM:-0600
TZOFFSETTO:-0500
TZNAME:CDT
DTSTART:19700308T020000
RRULE:FREQ=YEARLY;BYMONTH=3;BYDAY=2SU
END:DAYLIGHT
BEGIN:STANDARD
TZOFFSETFROM:-0500
TZOFFSETTO:-0600
TZNAME:CST
DTSTART:19701101T020000
RRULE:FREQ=YEARLY;BYMONTH=11;BYDAY=1SU
END:STANDARD
END:VTIMEZONE
BEGIN:VEVENT
DTSTART;TZID=US/Central:20180209T200000
DTEND;VALUE=DATE-TIME;TZID=US/Central:20180210T000000

DTSTAMP:20260419T202800Z
CREATED:20180103T202700Z
LAST-MODIFIED:20180103T202700Z
UID:20180209T200000-35805@law.utexas.edu
SUMMARY:Barrister's Ball
DESCRIPTION:<p>The Student Bar Association will be holding the annual law school-wide Barrister's Ball from 8 pm–12 am at the Bob Bullock Museum. Tickets will be sold the week leading up to the event for $45 and for $55 at the door. Each ticket includes 4 drink tickets and access to the chicken &amp; waffles and vegetable frittata buffet. We will also have a photo booth and live band. Dress is formal. See you there!</p>\n\nIf you need an accommodation to participate in this event, please contact the event sponsor or the Texas Law Special Events Office at specialevents@law.utexas.edu no later than seven business days prior to the event.
X-ALT-DESC;FMTTYPE=text/html:<p>The Student Bar Association will be holding the annual law school-wide Barrister's Ball from 8 pm–12 am at the Bob Bullock Museum. Tickets will be sold the week leading up to the event for $45 and for $55 at the door. Each ticket includes 4 drink tickets and access to the chicken &amp; waffles and vegetable frittata buffet. We will also have a photo booth and live band. Dress is formal. See you there!</p><p>If you need an accommodation to participate in this event, please contact the event
                                          event sponsor or the Texas Law Special Events Office at <a href="mailto:specialevents@law.utexas.edu">specialevents@law.utexas.edu</a> no later than seven business days prior to the event.</p>
CATEGORIES:Other
LOCATION:Bob Bullock Museum Main Lobby
URL:http://law.utexas.edu/calendar/2018/02/09/35805/
CLASS:PUBLIC
STATUS:CONFIRMED
COMMENT:Please contact danielledcooper@utexas.edu
END:VEVENT
END:VCALENDAR