BEGIN:VCALENDAR
VERSION:2.0
PRODID:-//UNIVERSITY OF TEXAS SCHOOL OF LAW//NONSGML Events Calendar v1.0//EN
X-WR-TIMEZONE:America/Chicago
BEGIN:VTIMEZONE
TZID:US/Central
X-LIC-LOCATION:America/Chicago
BEGIN:DAYLIGHT
TZOFFSETFROM:-0600
TZOFFSETTO:-0500
TZNAME:CDT
DTSTART:19700308T020000
RRULE:FREQ=YEARLY;BYMONTH=3;BYDAY=2SU
END:DAYLIGHT
BEGIN:STANDARD
TZOFFSETFROM:-0500
TZOFFSETTO:-0600
TZNAME:CST
DTSTART:19701101T020000
RRULE:FREQ=YEARLY;BYMONTH=11;BYDAY=1SU
END:STANDARD
END:VTIMEZONE
BEGIN:VEVENT
DTSTART;TZID=US/Central:20180212
DTEND;TZID=US/Central:20180213
X-MICROSOFT-CDO-ALLDAYEVENT:TRUE
X-FUNAMBOL-ALLDAY:TRUE
DTSTAMP:20260419T165100Z
CREATED:20180205T044000Z
LAST-MODIFIED:20180205T044000Z
UID:20180212T000000-36604@law.utexas.edu
SUMMARY:GRITS Board Applications Due
DESCRIPTION:<p>Interested in putting together a conference on radical lawyering? Apply for the 2018 GRITS Board to help organize the Fall 2018 conference and highlight legal issues prevalent in the South. This is a great opportunity to deepen your understanding of radical lawyering, and meet lawyers and activists across the country in the process. Applications are due February 12th by 7pm CST. </p>\n\nIf you need an accommodation to participate in this event, please contact the event sponsor or the Texas Law Special Events Office at specialevents@law.utexas.edu no later than seven business days prior to the event.
X-ALT-DESC;FMTTYPE=text/html:<p>Interested in putting together a conference on radical lawyering? Apply for the 2018 GRITS Board to help organize the Fall 2018 conference and highlight legal issues prevalent in the South. This is a great opportunity to deepen your understanding of radical lawyering, and meet lawyers and activists across the country in the process. Applications are due February 12th by 7pm CST. </p><p>If you need an accommodation to participate in this event, please contact the event
                                          event sponsor or the Texas Law Special Events Office at <a href="mailto:specialevents@law.utexas.edu">specialevents@law.utexas.edu</a> no later than seven business days prior to the event.</p>
CATEGORIES:Other

URL:http://law.utexas.edu/calendar/2018/02/12/36604/
CLASS:PUBLIC
STATUS:CONFIRMED
COMMENT:www.gritsconference.org
END:VEVENT
END:VCALENDAR