BEGIN:VCALENDAR
VERSION:2.0
PRODID:-//UNIVERSITY OF TEXAS SCHOOL OF LAW//NONSGML Events Calendar v1.0//EN
X-WR-TIMEZONE:America/Chicago
BEGIN:VTIMEZONE
TZID:US/Central
X-LIC-LOCATION:America/Chicago
BEGIN:DAYLIGHT
TZOFFSETFROM:-0600
TZOFFSETTO:-0500
TZNAME:CDT
DTSTART:19700308T020000
RRULE:FREQ=YEARLY;BYMONTH=3;BYDAY=2SU
END:DAYLIGHT
BEGIN:STANDARD
TZOFFSETFROM:-0500
TZOFFSETTO:-0600
TZNAME:CST
DTSTART:19701101T020000
RRULE:FREQ=YEARLY;BYMONTH=11;BYDAY=1SU
END:STANDARD
END:VTIMEZONE
BEGIN:VEVENT
DTSTART;TZID=US/Central:20180213T140000
DTEND;VALUE=DATE-TIME;TZID=US/Central:20180213T160000

DTSTAMP:20260419T171500Z
CREATED:20180126T201500Z
LAST-MODIFIED:20180206T180200Z
UID:20180213T140000-36404@law.utexas.edu
SUMMARY:Dietrich Thränhardt
DESCRIPTION:<p>Guest lecture by Professor Dietrich Thränhardt, University of Münster, Germany. Prof. Thränhardt's talk will be on the refugee crisis in Europe and German and European responses to it. Dietrich Thränhardt is a political scientist and one of the most renowned European immigration scholars. He has published extensively on immigration both in Europe and in Canada and the US. His recent work focuses on European and German asylum policies. Bio: <a href="https://www.uni-muenster.de/IfPol/personen/thraenhardt.html">https://www.uni-muenster.de/IfPol/personen/thraenhardt.html</a> </p>\n\nIf you need an accommodation to participate in this event, please contact the event sponsor or the Texas Law Special Events Office at specialevents@law.utexas.edu no later than seven business days prior to the event.
X-ALT-DESC;FMTTYPE=text/html:<p>Guest lecture by Professor Dietrich Thränhardt, University of Münster, Germany. Prof. Thränhardt's talk will be on the refugee crisis in Europe and German and European responses to it. Dietrich Thränhardt is a political scientist and one of the most renowned European immigration scholars. He has published extensively on immigration both in Europe and in Canada and the US. His recent work focuses on European and German asylum policies. Bio: <a href="https://www.uni-muenster.de/IfPol/personen/thraenhardt.html">https://www.uni-muenster.de/IfPol/personen/thraenhardt.html</a> </p><p>If you need an accommodation to participate in this event, please contact the event
                                          event sponsor or the Texas Law Special Events Office at <a href="mailto:specialevents@law.utexas.edu">specialevents@law.utexas.edu</a> no later than seven business days prior to the event.</p>
CATEGORIES:Panel Discussion / Speaker Series
LOCATION:TNH 2.111 - Sheffield-Massey Room
URL:http://law.utexas.edu/calendar/2018/02/13/36404/
CLASS:PUBLIC
STATUS:CONFIRMED
COMMENT:Sarah Eliason at scline@law.utexas.edu
END:VEVENT
END:VCALENDAR