BEGIN:VCALENDAR
VERSION:2.0
PRODID:-//UNIVERSITY OF TEXAS SCHOOL OF LAW//NONSGML Events Calendar v1.0//EN
X-WR-TIMEZONE:America/Chicago
BEGIN:VTIMEZONE
TZID:US/Central
X-LIC-LOCATION:America/Chicago
BEGIN:DAYLIGHT
TZOFFSETFROM:-0600
TZOFFSETTO:-0500
TZNAME:CDT
DTSTART:19700308T020000
RRULE:FREQ=YEARLY;BYMONTH=3;BYDAY=2SU
END:DAYLIGHT
BEGIN:STANDARD
TZOFFSETFROM:-0500
TZOFFSETTO:-0600
TZNAME:CST
DTSTART:19701101T020000
RRULE:FREQ=YEARLY;BYMONTH=11;BYDAY=1SU
END:STANDARD
END:VTIMEZONE
BEGIN:VEVENT
DTSTART;TZID=US/Central:20180214T153000
DTEND;VALUE=DATE-TIME;TZID=US/Central:20180214T160000

DTSTAMP:20260419T153400Z
CREATED:20180124T141000Z
LAST-MODIFIED:20180124T141000Z
UID:20180214T153000-36264@law.utexas.edu
SUMMARY:1L Mandatory Academic Advising Session
DESCRIPTION:<p>All first year students must attend this academic advising session. The sessions take place on Tuesday, February 12 and Wednesday, February 13. Both will take place at 3:30pm in the Auditorium. Choose one of the two session to attend. Make sure that you sign in at the session. </p>
  <p>Dean Bangs will review your graduation requirements, upper-class curricular opportunities, and course seleciton considerations. </p>
  <p>All first year students will receive meeting invitations for one on one advising meetings, which will take place in the three weeks before Spring Break. Early Registration for Fall 2018 will begin on March 26. </p>\n\nIf you need an accommodation to participate in this event, please contact the event sponsor or the Texas Law Special Events Office at specialevents@law.utexas.edu no later than seven business days prior to the event.
X-ALT-DESC;FMTTYPE=text/html:<p>All first year students must attend this academic advising session. The sessions take place on Tuesday, February 12 and Wednesday, February 13. Both will take place at 3:30pm in the Auditorium. Choose one of the two session to attend. Make sure that you sign in at the session. </p>
  <p>Dean Bangs will review your graduation requirements, upper-class curricular opportunities, and course seleciton considerations. </p>
  <p>All first year students will receive meeting invitations for one on one advising meetings, which will take place in the three weeks before Spring Break. Early Registration for Fall 2018 will begin on March 26. </p><p>If you need an accommodation to participate in this event, please contact the event
                                          event sponsor or the Texas Law Special Events Office at <a href="mailto:specialevents@law.utexas.edu">specialevents@law.utexas.edu</a> no later than seven business days prior to the event.</p>
CATEGORIES:Workshop / Training Program
LOCATION:TNH 2.114 - Francis Auditorium
URL:http://law.utexas.edu/calendar/2018/02/14/36264/
CLASS:PUBLIC
STATUS:CONFIRMED

END:VEVENT
END:VCALENDAR