BEGIN:VCALENDAR
VERSION:2.0
PRODID:-//UNIVERSITY OF TEXAS SCHOOL OF LAW//NONSGML Events Calendar v1.0//EN
X-WR-TIMEZONE:America/Chicago
BEGIN:VTIMEZONE
TZID:US/Central
X-LIC-LOCATION:America/Chicago
BEGIN:DAYLIGHT
TZOFFSETFROM:-0600
TZOFFSETTO:-0500
TZNAME:CDT
DTSTART:19700308T020000
RRULE:FREQ=YEARLY;BYMONTH=3;BYDAY=2SU
END:DAYLIGHT
BEGIN:STANDARD
TZOFFSETFROM:-0500
TZOFFSETTO:-0600
TZNAME:CST
DTSTART:19701101T020000
RRULE:FREQ=YEARLY;BYMONTH=11;BYDAY=1SU
END:STANDARD
END:VTIMEZONE
BEGIN:VEVENT
DTSTART;TZID=US/Central:20180215T114500
DTEND;VALUE=DATE-TIME;TZID=US/Central:20180215T210000

DTSTAMP:20260419T152900Z
CREATED:20171115T211000Z
LAST-MODIFIED:20180212T211000Z
UID:20180215T114500-34908@law.utexas.edu
SUMMARY:A Celebration of Diversity
DESCRIPTION:<p>A Celebration of Diversity </p>
  <p>February 15-16, 2018</p>
  <p>Current Schedule: </p>
  <p>Thursday, February 15, 2018</p>
  <p>
  11:45 a.m. - Lunch with Chief Judge Diane Wood '75,United States Court of Appeals for the Seventh Circuit, Presented by The Center for Women in Law in the Wright Classroom
  2:00 p.m. – "Sweatt versus Painter Reconsidered" with Professor Randall Kennedy from Harvard Law School in Eidman Courtroom
  3:30 p.m. – Reception and Heman Sweatt Portrait Unveiling in Atrium 
  6:00 p.m. – Dinner at the Etter-Harbin Alumni Center </p>
  <p>Friday, February 16, 2018</p>
  <p>TMLS Symposium in Eidman Courtroom
  9:00 a.m. - 2:00 p.m. 
  </p>\n\nIf you need an accommodation to participate in this event, please contact the event sponsor or the Texas Law Special Events Office at specialevents@law.utexas.edu no later than seven business days prior to the event.
X-ALT-DESC;FMTTYPE=text/html:<p>A Celebration of Diversity </p>
  <p>February 15-16, 2018</p>
  <p>Current Schedule: </p>
  <p>Thursday, February 15, 2018</p>
  <p>
  11:45 a.m. - Lunch with Chief Judge Diane Wood '75,United States Court of Appeals for the Seventh Circuit, Presented by The Center for Women in Law in the Wright Classroom
  2:00 p.m. – "Sweatt versus Painter Reconsidered" with Professor Randall Kennedy from Harvard Law School in Eidman Courtroom
  3:30 p.m. – Reception and Heman Sweatt Portrait Unveiling in Atrium 
  6:00 p.m. – Dinner at the Etter-Harbin Alumni Center </p>
  <p>Friday, February 16, 2018</p>
  <p>TMLS Symposium in Eidman Courtroom
  9:00 a.m. - 2:00 p.m. 
  </p><p>If you need an accommodation to participate in this event, please contact the event
                                          event sponsor or the Texas Law Special Events Office at <a href="mailto:specialevents@law.utexas.edu">specialevents@law.utexas.edu</a> no later than seven business days prior to the event.</p>
CATEGORIES:Panel Discussion / Speaker Series
LOCATION:CCJ 2.306 - Eidman Courtroom
URL:http://law.utexas.edu/calendar/2018/02/15/34908/
CLASS:PUBLIC
STATUS:CONFIRMED
COMMENT:Contact Alumni Events at events@law.utexas.edu
END:VEVENT
END:VCALENDAR