BEGIN:VCALENDAR
VERSION:2.0
PRODID:-//UNIVERSITY OF TEXAS SCHOOL OF LAW//NONSGML Events Calendar v1.0//EN
X-WR-TIMEZONE:America/Chicago
BEGIN:VTIMEZONE
TZID:US/Central
X-LIC-LOCATION:America/Chicago
BEGIN:DAYLIGHT
TZOFFSETFROM:-0600
TZOFFSETTO:-0500
TZNAME:CDT
DTSTART:19700308T020000
RRULE:FREQ=YEARLY;BYMONTH=3;BYDAY=2SU
END:DAYLIGHT
BEGIN:STANDARD
TZOFFSETFROM:-0500
TZOFFSETTO:-0600
TZNAME:CST
DTSTART:19701101T020000
RRULE:FREQ=YEARLY;BYMONTH=11;BYDAY=1SU
END:STANDARD
END:VTIMEZONE
BEGIN:VEVENT
DTSTART;TZID=US/Central:20180216T083000
DTEND;VALUE=DATE-TIME;TZID=US/Central:20180216T173000

DTSTAMP:20260419T185700Z
CREATED:20171019T013200Z
LAST-MODIFIED:20180211T211400Z
UID:20180216T083000-34284@law.utexas.edu
SUMMARY:Civic Education in a Time of Upheaval
DESCRIPTION:<p>Friday, February 16</p>
  <p>8:00 – 8:30am:  Breakfast for everyone and Registration for Teachers</p>
  <p>8:30 – 9:00am:  Welcome by Dean Farnsworth and Setting the Stage by Sanford Levinson</p>
  <p>9:00 – 12:15pm:  On "Introducing" Constitutional Law--and the Casebooks We Use to Do That.  A host of editors of leading casebooks on the US Constitution will address two central questions:  1. What aspects of the Constitution should American undergraduates and/or law students be “introduced” to in 2018, given the high unlikelihood that even the law students will actually "practice" constitutional law in any capacity other than citizens?   2.  What do you see as the principal point(s) of your own casebook relative to whatever answer you gave to the first question?  
  Each person will make a short presentation, followed by presumably intense conversation including participation by the audience.  There will be a brief break around 10:30 
  Panelists: Josh Blackman, Erwin Chemerinsky, Richard Fallon, Mark Graber, Gary Jacobsohn, Sanford Levinson, Pam Karlan, Mark Tushnet
  Chair: Richard Albert
  Location: Francis Auditorium</p>
  <p>1:45-2:00pm: Introduction to the general topic of civic education (and the remaining panels):  
  Meira Levinson</p>
  <p>
  2:00 – 3:30pm:  Historical Perspectives. As educators and citizens try to make sense of contemporary political and ideological divisions in the United States, it can be useful to see how educators and policy makers addressed profound division and civic upheaval in the past.  This panel brings together historians of education to provide perspectives and insights into prior approaches to civic education in times of upheaval.
  Panelists: Jarvis Givens, Julie Reuben, Jonathan Zimmerman
  Chair: Lorraine Pangle 
  Location: Sheffield-Massey Room</p>
  <p>3:50 – 5:35pm:  Civic Education in Divided Societies. Partisanship in the United States is at higher levels than we’ve seen in decades, and increasingly tracks other divides such as education level, income, and place of residence.  Not only are we more extreme in our beliefs, therefore, but we are also more likely to be disconnected from those who have different perspectives. We are not the only country to face profound civic division, however; nor is this the first time that the United States finds itself ideologically driven. This panel brings together scholars and educators who work around the globe in deeply divided countries.
  Panelists: Michelle Bellino, Thea Abu El-Haj, Michael Karayanni, Adam Strom
  Chair: Michael Stoff
  Location: Sheffield-Massey Room</p>
  <p>Saturday's Conference Schedule can be found <a href="https://law.utexas.edu/calendar/2018/02/17/36587/">here</a>.</p>
  <p>Please RSVP to the conference, <a href="https://goo.gl/forms/3GXkOMT8KwwzIfZx1">here</a>.</p>
  <p>Note: Teachers can get Continuing Education credit through the State Bar of Texas. Please pre-register with the RSVP and register in front of the desk at TNH 2.111.</p>\n\nIf you need an accommodation to participate in this event, please contact the event sponsor or the Texas Law Special Events Office at specialevents@law.utexas.edu no later than seven business days prior to the event. Speaker: Sanford V. Levinson, W. St. John Garwood and W. St. John Garwood, Jr. Centennial Chair in Law, University of Texas
X-ALT-DESC;FMTTYPE=text/html:<p>Friday, February 16</p>
  <p>8:00 – 8:30am:  Breakfast for everyone and Registration for Teachers</p>
  <p>8:30 – 9:00am:  Welcome by Dean Farnsworth and Setting the Stage by Sanford Levinson</p>
  <p>9:00 – 12:15pm:  On "Introducing" Constitutional Law--and the Casebooks We Use to Do That.  A host of editors of leading casebooks on the US Constitution will address two central questions:  1. What aspects of the Constitution should American undergraduates and/or law students be “introduced” to in 2018, given the high unlikelihood that even the law students will actually "practice" constitutional law in any capacity other than citizens?   2.  What do you see as the principal point(s) of your own casebook relative to whatever answer you gave to the first question?  
  Each person will make a short presentation, followed by presumably intense conversation including participation by the audience.  There will be a brief break around 10:30 
  Panelists: Josh Blackman, Erwin Chemerinsky, Richard Fallon, Mark Graber, Gary Jacobsohn, Sanford Levinson, Pam Karlan, Mark Tushnet
  Chair: Richard Albert
  Location: Francis Auditorium</p>
  <p>1:45-2:00pm: Introduction to the general topic of civic education (and the remaining panels):  
  Meira Levinson</p>
  <p>
  2:00 – 3:30pm:  Historical Perspectives. As educators and citizens try to make sense of contemporary political and ideological divisions in the United States, it can be useful to see how educators and policy makers addressed profound division and civic upheaval in the past.  This panel brings together historians of education to provide perspectives and insights into prior approaches to civic education in times of upheaval.
  Panelists: Jarvis Givens, Julie Reuben, Jonathan Zimmerman
  Chair: Lorraine Pangle 
  Location: Sheffield-Massey Room</p>
  <p>3:50 – 5:35pm:  Civic Education in Divided Societies. Partisanship in the United States is at higher levels than we’ve seen in decades, and increasingly tracks other divides such as education level, income, and place of residence.  Not only are we more extreme in our beliefs, therefore, but we are also more likely to be disconnected from those who have different perspectives. We are not the only country to face profound civic division, however; nor is this the first time that the United States finds itself ideologically driven. This panel brings together scholars and educators who work around the globe in deeply divided countries.
  Panelists: Michelle Bellino, Thea Abu El-Haj, Michael Karayanni, Adam Strom
  Chair: Michael Stoff
  Location: Sheffield-Massey Room</p>
  <p>Saturday's Conference Schedule can be found <a href="https://law.utexas.edu/calendar/2018/02/17/36587/">here</a>.</p>
  <p>Please RSVP to the conference, <a href="https://goo.gl/forms/3GXkOMT8KwwzIfZx1">here</a>.</p>
  <p>Note: Teachers can get Continuing Education credit through the State Bar of Texas. Please pre-register with the RSVP and register in front of the desk at TNH 2.111.</p><p>If you need an accommodation to participate in this event, please contact the event
                                          event sponsor or the Texas Law Special Events Office at <a href="mailto:specialevents@law.utexas.edu">specialevents@law.utexas.edu</a> no later than seven business days prior to the event.</p> Speaker: Sanford V. Levinson, W. St. John Garwood and W. St. John Garwood, Jr. Centennial Chair in Law, University of Texas

LOCATION:TNH 2.111 - Sheffield-Massey Room
URL:http://law.utexas.edu/calendar/2018/02/16/34284/
CLASS:PUBLIC
STATUS:CONFIRMED

END:VEVENT
END:VCALENDAR