BEGIN:VCALENDAR
VERSION:2.0
PRODID:-//UNIVERSITY OF TEXAS SCHOOL OF LAW//NONSGML Events Calendar v1.0//EN
X-WR-TIMEZONE:America/Chicago
BEGIN:VTIMEZONE
TZID:US/Central
X-LIC-LOCATION:America/Chicago
BEGIN:DAYLIGHT
TZOFFSETFROM:-0600
TZOFFSETTO:-0500
TZNAME:CDT
DTSTART:19700308T020000
RRULE:FREQ=YEARLY;BYMONTH=3;BYDAY=2SU
END:DAYLIGHT
BEGIN:STANDARD
TZOFFSETFROM:-0500
TZOFFSETTO:-0600
TZNAME:CST
DTSTART:19701101T020000
RRULE:FREQ=YEARLY;BYMONTH=11;BYDAY=1SU
END:STANDARD
END:VTIMEZONE
BEGIN:VEVENT
DTSTART;TZID=US/Central:20180216T090000
DTEND;VALUE=DATE-TIME;TZID=US/Central:20180216T140000

DTSTAMP:20260419T122300Z
CREATED:20171115T211400Z
LAST-MODIFIED:20180212T152200Z
UID:20180216T090000-34924@law.utexas.edu
SUMMARY:TMLS Symposium
DESCRIPTION:<p>Please join the Thurgood Marshall Legal Society as we present: Justice Marshall’s Legacy – A Look at Modern School Segregation, How Far We’ve Come and How Far We Need To Go.  Panelists will include distinguished professors from UT's College of Education, recent Texas Law alumni, and current Texas Law students.  The symposium will conclude with a panel retrospective on Justice Marshall's career and legacy led by Texas Law's own Professor Jordan Steiker and including former Justice Marshall clerks and biographers.</p>\n\nIf you need an accommodation to participate in this event, please contact the event sponsor or the Texas Law Special Events Office at specialevents@law.utexas.edu no later than seven business days prior to the event.
X-ALT-DESC;FMTTYPE=text/html:<p>Please join the Thurgood Marshall Legal Society as we present: Justice Marshall’s Legacy – A Look at Modern School Segregation, How Far We’ve Come and How Far We Need To Go.  Panelists will include distinguished professors from UT's College of Education, recent Texas Law alumni, and current Texas Law students.  The symposium will conclude with a panel retrospective on Justice Marshall's career and legacy led by Texas Law's own Professor Jordan Steiker and including former Justice Marshall clerks and biographers.</p><p>If you need an accommodation to participate in this event, please contact the event
                                          event sponsor or the Texas Law Special Events Office at <a href="mailto:specialevents@law.utexas.edu">specialevents@law.utexas.edu</a> no later than seven business days prior to the event.</p>
CATEGORIES:Panel Discussion / Speaker Series
LOCATION:CCJ 2.306 - Eidman Courtroom
URL:http://law.utexas.edu/calendar/2018/02/16/34924/
CLASS:PUBLIC
STATUS:CONFIRMED

END:VEVENT
END:VCALENDAR