BEGIN:VCALENDAR
VERSION:2.0
PRODID:-//UNIVERSITY OF TEXAS SCHOOL OF LAW//NONSGML Events Calendar v1.0//EN
X-WR-TIMEZONE:America/Chicago
BEGIN:VTIMEZONE
TZID:US/Central
X-LIC-LOCATION:America/Chicago
BEGIN:DAYLIGHT
TZOFFSETFROM:-0600
TZOFFSETTO:-0500
TZNAME:CDT
DTSTART:19700308T020000
RRULE:FREQ=YEARLY;BYMONTH=3;BYDAY=2SU
END:DAYLIGHT
BEGIN:STANDARD
TZOFFSETFROM:-0500
TZOFFSETTO:-0600
TZNAME:CST
DTSTART:19701101T020000
RRULE:FREQ=YEARLY;BYMONTH=11;BYDAY=1SU
END:STANDARD
END:VTIMEZONE
BEGIN:VEVENT
DTSTART;TZID=US/Central:20180220T114500
DTEND;VALUE=DATE-TIME;TZID=US/Central:20180220T134500

DTSTAMP:20260419T181700Z
CREATED:20170803T143100Z
LAST-MODIFIED:20180131T215200Z
UID:20180220T114500-32264@law.utexas.edu
SUMMARY:Lives in the Law: Angie Junck
DESCRIPTION:<p>11:45 a.m.-12:45 p.m. in the Eidman Courtroom and 12:45-1:45 p.m. in the Jury Room. Lunch served at 12:45.</p>
  <p>RSVP by Tuesday, February 13, on <a href="https://law-utexas-csm.symplicity.com/students/"> Symplicity</a> by selecting the "Events" tab.</p>
  <p>During the first hour, which is free and open to the public, Angie Junck of the Immigrant Legal Resource Center, will discuss her work advocating for immigrants in a talk entitled “Leveraging Local Policymaking to Protect Texas Immigrants.” During the second hour she will meet with students more informally over lunch to discuss her life and career.</p>
  <p>More about the <a href="https://www.ilrc.org/">Immigrant Legal Resource Center</a> and <a href="https://www.ilrc.org/angie-junck">Angie Junck</a>: The Immigrant Legal Resource Center (ILRC) is a San Francisco-based nonprofit that works with and educates “immigrants, community organizations, and the legal sector to continue to build a democratic society that values diversity and the rights of all people.” Angie Junck, the ILRC’s Supervising Attorney, manages several of ILRC’s program areas, including immigration consequences of crime, immigration enforcement, and immigrant youth. She helps coordinate two national collaboratives that address the intersection of the immigration and criminal legal systems—the Defending Immigrants Project, a collaborative devoted to protecting the rights of immigrants accused of crimes by providing advocacy and support within the criminal legal system and the Immigrant Justice Network, a collaborative to eliminate unjust immigration penalties for immigrants and end the criminalization of immigrant communities. She is a Commissioner with the American Bar Association's (ABA) Immigration Commission and is the co-chair of the Immigration Committee of the ABA's Criminal Justice Section. </p>
  <p>The “Lives in the Law” speaker series focuses on the work and lives of lawyers who strive to improve the lives of others through litigation, advocacy and public service.</p>
  <p>Hosted by the Career Services Office and the William Wayne Justice Center for Public Interest Law.
  </p>\n\nIf you need an accommodation to participate in this event, please contact the event sponsor or the Texas Law Special Events Office at specialevents@law.utexas.edu no later than seven business days prior to the event.
X-ALT-DESC;FMTTYPE=text/html:<p>11:45 a.m.-12:45 p.m. in the Eidman Courtroom and 12:45-1:45 p.m. in the Jury Room. Lunch served at 12:45.</p>
  <p>RSVP by Tuesday, February 13, on <a href="https://law-utexas-csm.symplicity.com/students/"> Symplicity</a> by selecting the "Events" tab.</p>
  <p>During the first hour, which is free and open to the public, Angie Junck of the Immigrant Legal Resource Center, will discuss her work advocating for immigrants in a talk entitled “Leveraging Local Policymaking to Protect Texas Immigrants.” During the second hour she will meet with students more informally over lunch to discuss her life and career.</p>
  <p>More about the <a href="https://www.ilrc.org/">Immigrant Legal Resource Center</a> and <a href="https://www.ilrc.org/angie-junck">Angie Junck</a>: The Immigrant Legal Resource Center (ILRC) is a San Francisco-based nonprofit that works with and educates “immigrants, community organizations, and the legal sector to continue to build a democratic society that values diversity and the rights of all people.” Angie Junck, the ILRC’s Supervising Attorney, manages several of ILRC’s program areas, including immigration consequences of crime, immigration enforcement, and immigrant youth. She helps coordinate two national collaboratives that address the intersection of the immigration and criminal legal systems—the Defending Immigrants Project, a collaborative devoted to protecting the rights of immigrants accused of crimes by providing advocacy and support within the criminal legal system and the Immigrant Justice Network, a collaborative to eliminate unjust immigration penalties for immigrants and end the criminalization of immigrant communities. She is a Commissioner with the American Bar Association's (ABA) Immigration Commission and is the co-chair of the Immigration Committee of the ABA's Criminal Justice Section. </p>
  <p>The “Lives in the Law” speaker series focuses on the work and lives of lawyers who strive to improve the lives of others through litigation, advocacy and public service.</p>
  <p>Hosted by the Career Services Office and the William Wayne Justice Center for Public Interest Law.
  </p><p>If you need an accommodation to participate in this event, please contact the event
                                          event sponsor or the Texas Law Special Events Office at <a href="mailto:specialevents@law.utexas.edu">specialevents@law.utexas.edu</a> no later than seven business days prior to the event.</p>
CATEGORIES:Workshop / Training Program
LOCATION:CCJ 2.306 - Eidman Courtroom
URL:http://law.utexas.edu/calendar/2018/02/20/32264/
CLASS:PUBLIC
STATUS:CONFIRMED
COMMENT:Please contact Lawson Konvalinka at 512-232-1157, or <a href="mailto:lkonvalinka@law.utexas.edu"></a>
END:VEVENT
END:VCALENDAR