BEGIN:VCALENDAR
VERSION:2.0
PRODID:-//UNIVERSITY OF TEXAS SCHOOL OF LAW//NONSGML Events Calendar v1.0//EN
X-WR-TIMEZONE:America/Chicago
BEGIN:VTIMEZONE
TZID:US/Central
X-LIC-LOCATION:America/Chicago
BEGIN:DAYLIGHT
TZOFFSETFROM:-0600
TZOFFSETTO:-0500
TZNAME:CDT
DTSTART:19700308T020000
RRULE:FREQ=YEARLY;BYMONTH=3;BYDAY=2SU
END:DAYLIGHT
BEGIN:STANDARD
TZOFFSETFROM:-0500
TZOFFSETTO:-0600
TZNAME:CST
DTSTART:19701101T020000
RRULE:FREQ=YEARLY;BYMONTH=11;BYDAY=1SU
END:STANDARD
END:VTIMEZONE
BEGIN:VEVENT
DTSTART;TZID=US/Central:20180221T170000
DTEND;VALUE=DATE-TIME;TZID=US/Central:20180221T200000

DTSTAMP:20260419T145500Z
CREATED:20180213T233300Z
LAST-MODIFIED:20180213T233300Z
UID:20180221T170000-36804@law.utexas.edu
SUMMARY:TMLS dinner with Judge Lora Livingston
DESCRIPTION:<p>TMLS enjoys dinner with  Judge Lora Livingston of the 261st District Court.  She is the first African American woman to be elected or serve as a District Judge in Travis County, and she has been on the bench since 1999.  She will speak and then take Q &amp; A from the students.  </p>\n\nIf you need an accommodation to participate in this event, please contact the event sponsor or the Texas Law Special Events Office at specialevents@law.utexas.edu no later than seven business days prior to the event.
X-ALT-DESC;FMTTYPE=text/html:<p>TMLS enjoys dinner with  Judge Lora Livingston of the 261st District Court.  She is the first African American woman to be elected or serve as a District Judge in Travis County, and she has been on the bench since 1999.  She will speak and then take Q &amp; A from the students.  </p><p>If you need an accommodation to participate in this event, please contact the event
                                          event sponsor or the Texas Law Special Events Office at <a href="mailto:specialevents@law.utexas.edu">specialevents@law.utexas.edu</a> no later than seven business days prior to the event.</p>
CATEGORIES:Dinner
LOCATION:TNH 2.111 - Sheffield-Massey Room
URL:http://law.utexas.edu/calendar/2018/02/21/36804/
CLASS:PUBLIC
STATUS:CONFIRMED

END:VEVENT
END:VCALENDAR