BEGIN:VCALENDAR
VERSION:2.0
PRODID:-//UNIVERSITY OF TEXAS SCHOOL OF LAW//NONSGML Events Calendar v1.0//EN
X-WR-TIMEZONE:America/Chicago
BEGIN:VTIMEZONE
TZID:US/Central
X-LIC-LOCATION:America/Chicago
BEGIN:DAYLIGHT
TZOFFSETFROM:-0600
TZOFFSETTO:-0500
TZNAME:CDT
DTSTART:19700308T020000
RRULE:FREQ=YEARLY;BYMONTH=3;BYDAY=2SU
END:DAYLIGHT
BEGIN:STANDARD
TZOFFSETFROM:-0500
TZOFFSETTO:-0600
TZNAME:CST
DTSTART:19701101T020000
RRULE:FREQ=YEARLY;BYMONTH=11;BYDAY=1SU
END:STANDARD
END:VTIMEZONE
BEGIN:VEVENT
DTSTART;TZID=US/Central:20180222T114500
DTEND;VALUE=DATE-TIME;TZID=US/Central:20180222T124500

DTSTAMP:20260419T175200Z
CREATED:20171213T195500Z
LAST-MODIFIED:20180216T215500Z
UID:20180222T114500-35526@law.utexas.edu
SUMMARY:Go Big at Small &amp; Midsize Firms
DESCRIPTION:<p>Find out why working in a small or midsize firm might be right for you. Panelists Nicole LeFave, '12, Weisbart Springer Hayes LLP; Stephanie Potter, '08, Naman, Howell, Smith &amp; Lee; and Brad Beskin, '17, Nix Patterson &amp; Roach will discuss how to effectively prepare for a career in a small or midsize firm, as well as strategies for building a network and finding opportunities.</p> 
  <p>Lunch will be served. RSVP by Wednesday, February 21, on <a href="https://law-utexas-csm.symplicity.com/students/"> Symplicity</a> by selecting the "Events" tab.</p>\n\nIf you need an accommodation to participate in this event, please contact the event sponsor or the Texas Law Special Events Office at specialevents@law.utexas.edu no later than seven business days prior to the event.
X-ALT-DESC;FMTTYPE=text/html:<p>Find out why working in a small or midsize firm might be right for you. Panelists Nicole LeFave, '12, Weisbart Springer Hayes LLP; Stephanie Potter, '08, Naman, Howell, Smith &amp; Lee; and Brad Beskin, '17, Nix Patterson &amp; Roach will discuss how to effectively prepare for a career in a small or midsize firm, as well as strategies for building a network and finding opportunities.</p> 
  <p>Lunch will be served. RSVP by Wednesday, February 21, on <a href="https://law-utexas-csm.symplicity.com/students/"> Symplicity</a> by selecting the "Events" tab.</p><p>If you need an accommodation to participate in this event, please contact the event
                                          event sponsor or the Texas Law Special Events Office at <a href="mailto:specialevents@law.utexas.edu">specialevents@law.utexas.edu</a> no later than seven business days prior to the event.</p>
CATEGORIES:Workshop / Training Program
LOCATION:TNH 2.139 - Wilson Classroom
URL:http://law.utexas.edu/calendar/2018/02/22/35526/
CLASS:PUBLIC
STATUS:CONFIRMED
COMMENT:Please contact Denyse Demel, Career Counselor, at <a href="mailto:ddemel@law.utexas.edu">ddemel@law.utexas.edu</a>.
END:VEVENT
END:VCALENDAR