BEGIN:VCALENDAR
VERSION:2.0
PRODID:-//UNIVERSITY OF TEXAS SCHOOL OF LAW//NONSGML Events Calendar v1.0//EN
X-WR-TIMEZONE:America/Chicago
BEGIN:VTIMEZONE
TZID:US/Central
X-LIC-LOCATION:America/Chicago
BEGIN:DAYLIGHT
TZOFFSETFROM:-0600
TZOFFSETTO:-0500
TZNAME:CDT
DTSTART:19700308T020000
RRULE:FREQ=YEARLY;BYMONTH=3;BYDAY=2SU
END:DAYLIGHT
BEGIN:STANDARD
TZOFFSETFROM:-0500
TZOFFSETTO:-0600
TZNAME:CST
DTSTART:19701101T020000
RRULE:FREQ=YEARLY;BYMONTH=11;BYDAY=1SU
END:STANDARD
END:VTIMEZONE
BEGIN:VEVENT
DTSTART;TZID=US/Central:20180223T113000
DTEND;VALUE=DATE-TIME;TZID=US/Central:20180223T130000

DTSTAMP:20260420T131000Z
CREATED:20180118T233500Z
LAST-MODIFIED:20180222T044100Z
UID:20180223T113000-36144@law.utexas.edu
SUMMARY:Constitutional Studies Luncheon
DESCRIPTION:<p>Constitutional Studies Luncheon, where Dr. Yaniv Roznai will present. The subject of his remarks will be “Unconstitutional Constitutional Amendments: The Limits of Amendment Powers” (Oxford 2017). Professor Forbath will chair the session, and Professor Levinson and Professor Ferreres Comella will both offer comments as discussants.</p>\n\nIf you need an accommodation to participate in this event, please contact the event sponsor or the Texas Law Special Events Office at specialevents@law.utexas.edu no later than seven business days prior to the event. Speakers: Yaniv Roznai, S, Radzyner Law School, Sanford V. Levinson, W. St. John Garwood and W. St. John Garwood, Jr. Centennial Chair in Law, University of Texas, Victor Ferreres, Visiting Professor, University of Texas
X-ALT-DESC;FMTTYPE=text/html:<p>Constitutional Studies Luncheon, where Dr. Yaniv Roznai will present. The subject of his remarks will be “Unconstitutional Constitutional Amendments: The Limits of Amendment Powers” (Oxford 2017). Professor Forbath will chair the session, and Professor Levinson and Professor Ferreres Comella will both offer comments as discussants.</p><p>If you need an accommodation to participate in this event, please contact the event
                                          event sponsor or the Texas Law Special Events Office at <a href="mailto:specialevents@law.utexas.edu">specialevents@law.utexas.edu</a> no later than seven business days prior to the event.</p> Speakers: Yaniv Roznai, S, Radzyner Law School, Sanford V. Levinson, W. St. John Garwood and W. St. John Garwood, Jr. Centennial Chair in Law, University of Texas, Victor Ferreres, Visiting Professor, University of Texas

LOCATION:CCJ 2.310 - Jury Room
URL:http://law.utexas.edu/calendar/2018/02/23/36144/
CLASS:PUBLIC
STATUS:CONFIRMED

END:VEVENT
END:VCALENDAR