BEGIN:VCALENDAR
VERSION:2.0
PRODID:-//UNIVERSITY OF TEXAS SCHOOL OF LAW//NONSGML Events Calendar v1.0//EN
X-WR-TIMEZONE:America/Chicago
BEGIN:VTIMEZONE
TZID:US/Central
X-LIC-LOCATION:America/Chicago
BEGIN:DAYLIGHT
TZOFFSETFROM:-0600
TZOFFSETTO:-0500
TZNAME:CDT
DTSTART:19700308T020000
RRULE:FREQ=YEARLY;BYMONTH=3;BYDAY=2SU
END:DAYLIGHT
BEGIN:STANDARD
TZOFFSETFROM:-0500
TZOFFSETTO:-0600
TZNAME:CST
DTSTART:19701101T020000
RRULE:FREQ=YEARLY;BYMONTH=11;BYDAY=1SU
END:STANDARD
END:VTIMEZONE
BEGIN:VEVENT
DTSTART;TZID=US/Central:20180228T170000
DTEND;VALUE=DATE-TIME;TZID=US/Central:20180228T190000

DTSTAMP:20260419T202900Z
CREATED:20180219T153400Z
LAST-MODIFIED:20180219T153400Z
UID:20180228T170000-36984@law.utexas.edu
SUMMARY:The 13th Screening
DESCRIPTION:<p>Texas Law ACS will be screening the documentary "The 13th" by director Ava DuVernay. The 13th Amendment to the Constitution reads, “Neither slavery nor involuntary servitude, except as a punishment for crime whereof the party shall have been duly convicted, shall exist within the United States.” The film covers the progression from that second qualifying clause to the horrors of mass criminalization and the sprawling American prison industry. </p>
  <p>Dinner will be served.</p>\n\nIf you need an accommodation to participate in this event, please contact the event sponsor or the Texas Law Special Events Office at specialevents@law.utexas.edu no later than seven business days prior to the event.
X-ALT-DESC;FMTTYPE=text/html:<p>Texas Law ACS will be screening the documentary "The 13th" by director Ava DuVernay. The 13th Amendment to the Constitution reads, “Neither slavery nor involuntary servitude, except as a punishment for crime whereof the party shall have been duly convicted, shall exist within the United States.” The film covers the progression from that second qualifying clause to the horrors of mass criminalization and the sprawling American prison industry. </p>
  <p>Dinner will be served.</p><p>If you need an accommodation to participate in this event, please contact the event
                                          event sponsor or the Texas Law Special Events Office at <a href="mailto:specialevents@law.utexas.edu">specialevents@law.utexas.edu</a> no later than seven business days prior to the event.</p>
CATEGORIES:Meeting
LOCATION:TNH 2.139 - Wilson Classroom
URL:http://law.utexas.edu/calendar/2018/02/28/36984/
CLASS:PUBLIC
STATUS:CONFIRMED
COMMENT:Email utacs.president@gmail.com
END:VEVENT
END:VCALENDAR