BEGIN:VCALENDAR
VERSION:2.0
PRODID:-//UNIVERSITY OF TEXAS SCHOOL OF LAW//NONSGML Events Calendar v1.0//EN
X-WR-TIMEZONE:America/Chicago
BEGIN:VTIMEZONE
TZID:US/Central
X-LIC-LOCATION:America/Chicago
BEGIN:DAYLIGHT
TZOFFSETFROM:-0600
TZOFFSETTO:-0500
TZNAME:CDT
DTSTART:19700308T020000
RRULE:FREQ=YEARLY;BYMONTH=3;BYDAY=2SU
END:DAYLIGHT
BEGIN:STANDARD
TZOFFSETFROM:-0500
TZOFFSETTO:-0600
TZNAME:CST
DTSTART:19701101T020000
RRULE:FREQ=YEARLY;BYMONTH=11;BYDAY=1SU
END:STANDARD
END:VTIMEZONE
BEGIN:VEVENT
DTSTART;TZID=US/Central:20180301T120000
DTEND;VALUE=DATE-TIME;TZID=US/Central:20180301T130000

DTSTAMP:20260419T202600Z
CREATED:20180117T223100Z
LAST-MODIFIED:20180214T171900Z
UID:20180301T120000-36085@law.utexas.edu
SUMMARY:Careers in Compliance
DESCRIPTION:<p>Join CCOs <a href="https://www.linkedin.com/in/forrest-deegan-7bb99459">Forrest Deegan (Abercrombie &amp; Fitch)</a> and <a href="https://www.linkedin.com/in/scott-jensen-a132b12/">Scott Jensen (QVC)</a>, and Interim CCO <a href="https://www.linkedin.com/in/leslie-montalvo-jd-90a74826/">Leslie Montalvo '15 (Dell Medical School)</a> as they discuss the paths that led them to a career in Compliance.</p>
  <p>Lunch will be served. RSVP by Wednesday, February 28, on <a href="https://law-utexas-csm.symplicity.com/students/"> Symplicity</a> by selecting the "Events" tab.</p>\n\nIf you need an accommodation to participate in this event, please contact the event sponsor or the Texas Law Special Events Office at specialevents@law.utexas.edu no later than seven business days prior to the event.
X-ALT-DESC;FMTTYPE=text/html:<p>Join CCOs <a href="https://www.linkedin.com/in/forrest-deegan-7bb99459">Forrest Deegan (Abercrombie &amp; Fitch)</a> and <a href="https://www.linkedin.com/in/scott-jensen-a132b12/">Scott Jensen (QVC)</a>, and Interim CCO <a href="https://www.linkedin.com/in/leslie-montalvo-jd-90a74826/">Leslie Montalvo '15 (Dell Medical School)</a> as they discuss the paths that led them to a career in Compliance.</p>
  <p>Lunch will be served. RSVP by Wednesday, February 28, on <a href="https://law-utexas-csm.symplicity.com/students/"> Symplicity</a> by selecting the "Events" tab.</p><p>If you need an accommodation to participate in this event, please contact the event
                                          event sponsor or the Texas Law Special Events Office at <a href="mailto:specialevents@law.utexas.edu">specialevents@law.utexas.edu</a> no later than seven business days prior to the event.</p>
CATEGORIES:Panel Discussion / Speaker Series
LOCATION:TNH 3.142 - Walker Classroom
URL:http://law.utexas.edu/calendar/2018/03/01/36085/
CLASS:PUBLIC
STATUS:CONFIRMED
COMMENT:Please contact Angelica Evans, Associate Director, at <a href="mailto:aevans@law.utexas.edu">aevans@law.utexas.edu</a>.
END:VEVENT
END:VCALENDAR