BEGIN:VCALENDAR
VERSION:2.0
PRODID:-//UNIVERSITY OF TEXAS SCHOOL OF LAW//NONSGML Events Calendar v1.0//EN
X-WR-TIMEZONE:America/Chicago
BEGIN:VTIMEZONE
TZID:US/Central
X-LIC-LOCATION:America/Chicago
BEGIN:DAYLIGHT
TZOFFSETFROM:-0600
TZOFFSETTO:-0500
TZNAME:CDT
DTSTART:19700308T020000
RRULE:FREQ=YEARLY;BYMONTH=3;BYDAY=2SU
END:DAYLIGHT
BEGIN:STANDARD
TZOFFSETFROM:-0500
TZOFFSETTO:-0600
TZNAME:CST
DTSTART:19701101T020000
RRULE:FREQ=YEARLY;BYMONTH=11;BYDAY=1SU
END:STANDARD
END:VTIMEZONE
BEGIN:VEVENT
DTSTART;TZID=US/Central:20180301T170000
DTEND;VALUE=DATE-TIME;TZID=US/Central:20180301T190000

DTSTAMP:20260419T185700Z
CREATED:20180214T170700Z
LAST-MODIFIED:20180228T223700Z
UID:20180301T170000-36844@law.utexas.edu
SUMMARY:The Future of Compliance
DESCRIPTION:<p>Join us for a compliance leadership panel of UT alums discussing the continued evolution of the compliance profession. Panelists include <a href="https://www.linkedin.com/in/gfrenbarger/">Grace Fisher Renbarger</a>, Chief Ethics and Compliance Officer, BazaarVoice, and Lecturer, McCombs School of Business; <a href="https://www.linkedin.com/in/scott-jensen-a132b12/">Scott Jensen</a>, Ethics and Compliance Officer, QVC; and <a href="https://www.linkedin.com/in/forrest-deegan-7bb99459/">Forrest J. Deegan</a>, Chief Ethics and Compliance Officer, Abercrombie &amp; Fitch. Moderated by <a href="http://www.advancedcompliancesol.com/about-tom-fox/">Thomas Fox</a>, Founder of the Compliance Podcast Network.  Hosted by the Career Services Office at Texas Law.
  </p>
  <p>Drinks and hors d'oeuvres will be served. RSVP by Wednesday, February 28, on <a href="https://law-utexas-csm.symplicity.com/students/"> Symplicity</a> by selecting the "Events" tab.</p>\n\nIf you need an accommodation to participate in this event, please contact the event sponsor or the Texas Law Special Events Office at specialevents@law.utexas.edu no later than seven business days prior to the event.
X-ALT-DESC;FMTTYPE=text/html:<p>Join us for a compliance leadership panel of UT alums discussing the continued evolution of the compliance profession. Panelists include <a href="https://www.linkedin.com/in/gfrenbarger/">Grace Fisher Renbarger</a>, Chief Ethics and Compliance Officer, BazaarVoice, and Lecturer, McCombs School of Business; <a href="https://www.linkedin.com/in/scott-jensen-a132b12/">Scott Jensen</a>, Ethics and Compliance Officer, QVC; and <a href="https://www.linkedin.com/in/forrest-deegan-7bb99459/">Forrest J. Deegan</a>, Chief Ethics and Compliance Officer, Abercrombie &amp; Fitch. Moderated by <a href="http://www.advancedcompliancesol.com/about-tom-fox/">Thomas Fox</a>, Founder of the Compliance Podcast Network.  Hosted by the Career Services Office at Texas Law.
  </p>
  <p>Drinks and hors d'oeuvres will be served. RSVP by Wednesday, February 28, on <a href="https://law-utexas-csm.symplicity.com/students/"> Symplicity</a> by selecting the "Events" tab.</p><p>If you need an accommodation to participate in this event, please contact the event
                                          event sponsor or the Texas Law Special Events Office at <a href="mailto:specialevents@law.utexas.edu">specialevents@law.utexas.edu</a> no later than seven business days prior to the event.</p>
CATEGORIES:Reception
LOCATION:CCJ 2.300 - Jamail Pavilion
URL:http://law.utexas.edu/calendar/2018/03/01/36844/
CLASS:PUBLIC
STATUS:CONFIRMED
COMMENT:Please contact Angelica Evans, Career Services Office Associate Director, at <a href="mailto:aevans@law.utexas.edu">aevans@law.utexas.edu</a>.
END:VEVENT
END:VCALENDAR