BEGIN:VCALENDAR
VERSION:2.0
PRODID:-//UNIVERSITY OF TEXAS SCHOOL OF LAW//NONSGML Events Calendar v1.0//EN
X-WR-TIMEZONE:America/Chicago
BEGIN:VTIMEZONE
TZID:US/Central
X-LIC-LOCATION:America/Chicago
BEGIN:DAYLIGHT
TZOFFSETFROM:-0600
TZOFFSETTO:-0500
TZNAME:CDT
DTSTART:19700308T020000
RRULE:FREQ=YEARLY;BYMONTH=3;BYDAY=2SU
END:DAYLIGHT
BEGIN:STANDARD
TZOFFSETFROM:-0500
TZOFFSETTO:-0600
TZNAME:CST
DTSTART:19701101T020000
RRULE:FREQ=YEARLY;BYMONTH=11;BYDAY=1SU
END:STANDARD
END:VTIMEZONE
BEGIN:VEVENT
DTSTART;TZID=US/Central:20180301T153000
DTEND;VALUE=DATE-TIME;TZID=US/Central:20180301T164500

DTSTAMP:20260419T172800Z
CREATED:20180215T182400Z
LAST-MODIFIED:20180215T182800Z
UID:20180301T153000-36886@law.utexas.edu
SUMMARY:9/11 Oral History and Narrative Memory
DESCRIPTION:<p>Mary Marshall Clark, Director of the Center for Oral History Research at Columbia University, will visit Professor Ann Cvetkovich’s Archival Fictions seminar in order to discuss Columbia University’s September 11, 2001 Oral History and Narrative Memory Project.  All are welcome to attend.</p>
  <p>Sponsored by the Archive and Human Rights Working Group with support from the Rapoport Center for Human Rights, LLILAS Benson Latin American Studies and Collections, Department of English, and Ellen Clayton Garwood Centennial Professorship in English.</p>\n\nIf you need an accommodation to participate in this event, please contact the event sponsor or the Texas Law Special Events Office at specialevents@law.utexas.edu no later than seven business days prior to the event.
X-ALT-DESC;FMTTYPE=text/html:<p>Mary Marshall Clark, Director of the Center for Oral History Research at Columbia University, will visit Professor Ann Cvetkovich’s Archival Fictions seminar in order to discuss Columbia University’s September 11, 2001 Oral History and Narrative Memory Project.  All are welcome to attend.</p>
  <p>Sponsored by the Archive and Human Rights Working Group with support from the Rapoport Center for Human Rights, LLILAS Benson Latin American Studies and Collections, Department of English, and Ellen Clayton Garwood Centennial Professorship in English.</p><p>If you need an accommodation to participate in this event, please contact the event
                                          event sponsor or the Texas Law Special Events Office at <a href="mailto:specialevents@law.utexas.edu">specialevents@law.utexas.edu</a> no later than seven business days prior to the event.</p>
CATEGORIES:Panel Discussion / Speaker Series
LOCATION:CLA 1.302D (Glickman Conference Center, College of Liberal Arts Building)
URL:http://law.utexas.edu/calendar/2018/03/01/36886/
CLASS:PUBLIC
STATUS:CONFIRMED
COMMENT:Sarah Eliason at seliason@law.utexas.edu
END:VEVENT
END:VCALENDAR