BEGIN:VCALENDAR
VERSION:2.0
PRODID:-//UNIVERSITY OF TEXAS SCHOOL OF LAW//NONSGML Events Calendar v1.0//EN
X-WR-TIMEZONE:America/Chicago
BEGIN:VTIMEZONE
TZID:US/Central
X-LIC-LOCATION:America/Chicago
BEGIN:DAYLIGHT
TZOFFSETFROM:-0600
TZOFFSETTO:-0500
TZNAME:CDT
DTSTART:19700308T020000
RRULE:FREQ=YEARLY;BYMONTH=3;BYDAY=2SU
END:DAYLIGHT
BEGIN:STANDARD
TZOFFSETFROM:-0500
TZOFFSETTO:-0600
TZNAME:CST
DTSTART:19701101T020000
RRULE:FREQ=YEARLY;BYMONTH=11;BYDAY=1SU
END:STANDARD
END:VTIMEZONE
BEGIN:VEVENT
DTSTART;TZID=US/Central:20180307T170000
DTEND;VALUE=DATE-TIME;TZID=US/Central:20180307T190000

DTSTAMP:20260419T085900Z
CREATED:20171117T163400Z
LAST-MODIFIED:20171117T163400Z
UID:20180307T170000-35008@law.utexas.edu
SUMMARY:Get the most of your summer position!
DESCRIPTION:<p>Approximately 60 students and around 15 lawyers, a networking event with themed tables about how to get the most of your summer internship. I will be providing my own food and drinks (beer/wine and snacks) However, I will be hiring a bartender.</p>\n\nIf you need an accommodation to participate in this event, please contact the event sponsor or the Texas Law Special Events Office at specialevents@law.utexas.edu no later than seven business days prior to the event.
X-ALT-DESC;FMTTYPE=text/html:<p>Approximately 60 students and around 15 lawyers, a networking event with themed tables about how to get the most of your summer internship. I will be providing my own food and drinks (beer/wine and snacks) However, I will be hiring a bartender.</p><p>If you need an accommodation to participate in this event, please contact the event
                                          event sponsor or the Texas Law Special Events Office at <a href="mailto:specialevents@law.utexas.edu">specialevents@law.utexas.edu</a> no later than seven business days prior to the event.</p>
CATEGORIES:Reception
LOCATION:TNH 2.111 - Sheffield-Massey Room
URL:http://law.utexas.edu/calendar/2018/03/07/35008/
CLASS:PUBLIC
STATUS:CONFIRMED

END:VEVENT
END:VCALENDAR