BEGIN:VCALENDAR
VERSION:2.0
PRODID:-//UNIVERSITY OF TEXAS SCHOOL OF LAW//NONSGML Events Calendar v1.0//EN
X-WR-TIMEZONE:America/Chicago
BEGIN:VTIMEZONE
TZID:US/Central
X-LIC-LOCATION:America/Chicago
BEGIN:DAYLIGHT
TZOFFSETFROM:-0600
TZOFFSETTO:-0500
TZNAME:CDT
DTSTART:19700308T020000
RRULE:FREQ=YEARLY;BYMONTH=3;BYDAY=2SU
END:DAYLIGHT
BEGIN:STANDARD
TZOFFSETFROM:-0500
TZOFFSETTO:-0600
TZNAME:CST
DTSTART:19701101T020000
RRULE:FREQ=YEARLY;BYMONTH=11;BYDAY=1SU
END:STANDARD
END:VTIMEZONE
BEGIN:VEVENT
DTSTART;TZID=US/Central:20180319T120000
DTEND;VALUE=DATE-TIME;TZID=US/Central:20180319T140000

DTSTAMP:20260419T161100Z
CREATED:20180226T201000Z
LAST-MODIFIED:20180309T201400Z
UID:20180319T120000-37204@law.utexas.edu
SUMMARY:The Slants: In Concert and Conversation
DESCRIPTION:<p>Please join the Asian Law Student Association, the Federalist Society, and the American Constitutional Society, as we welcome The Slants to Texas Law!</p>
  <p>The Slants are well known in legal circles due to their battle with the United States Trademark Office, which went before the Supreme Court of the United States in the case of Matal v. Tam, and was decided unanimously in their favor.</p>
  <p>The Slants will perform and discuss their experiences.  All are welcome!</p>\n\nIf you need an accommodation to participate in this event, please contact the event sponsor or the Texas Law Special Events Office at specialevents@law.utexas.edu no later than seven business days prior to the event.
X-ALT-DESC;FMTTYPE=text/html:<p>Please join the Asian Law Student Association, the Federalist Society, and the American Constitutional Society, as we welcome The Slants to Texas Law!</p>
  <p>The Slants are well known in legal circles due to their battle with the United States Trademark Office, which went before the Supreme Court of the United States in the case of Matal v. Tam, and was decided unanimously in their favor.</p>
  <p>The Slants will perform and discuss their experiences.  All are welcome!</p><p>If you need an accommodation to participate in this event, please contact the event
                                          event sponsor or the Texas Law Special Events Office at <a href="mailto:specialevents@law.utexas.edu">specialevents@law.utexas.edu</a> no later than seven business days prior to the event.</p>

LOCATION:CCJ 2.306 - Eidman Courtroom
URL:http://law.utexas.edu/calendar/2018/03/19/37204/
CLASS:PUBLIC
STATUS:CONFIRMED

END:VEVENT
END:VCALENDAR