BEGIN:VCALENDAR
VERSION:2.0
PRODID:-//UNIVERSITY OF TEXAS SCHOOL OF LAW//NONSGML Events Calendar v1.0//EN
X-WR-TIMEZONE:America/Chicago
BEGIN:VTIMEZONE
TZID:US/Central
X-LIC-LOCATION:America/Chicago
BEGIN:DAYLIGHT
TZOFFSETFROM:-0600
TZOFFSETTO:-0500
TZNAME:CDT
DTSTART:19700308T020000
RRULE:FREQ=YEARLY;BYMONTH=3;BYDAY=2SU
END:DAYLIGHT
BEGIN:STANDARD
TZOFFSETFROM:-0500
TZOFFSETTO:-0600
TZNAME:CST
DTSTART:19701101T020000
RRULE:FREQ=YEARLY;BYMONTH=11;BYDAY=1SU
END:STANDARD
END:VTIMEZONE
BEGIN:VEVENT
DTSTART;TZID=US/Central:20180320T121500
DTEND;VALUE=DATE-TIME;TZID=US/Central:20180320T131500

DTSTAMP:20260419T193800Z
CREATED:20180202T170900Z
LAST-MODIFIED:20180309T195400Z
UID:20180320T121500-36564@law.utexas.edu
SUMMARY:So, You Want to Be a Tax Lawyer?
DESCRIPTION:<p>The <a href="http://www.texastaxsection.org/">State Bar of Texas Tax Section</a> will present a discussion about various career opportunities in the area of tax law. Panelists include Nancy Prosser ‘93, General Counsel for the Texas Comptroller of Public Accounts; <a href="http://www.nortonrosefulbright.com/people/90239/patricklodaniel">Patrick O'Daniel, '92</a>, Partner, Norton Rose Fulbright; <a href="https://bbfglaw.com/rhonda-brink.html">Rhonda Brink</a> ‘74, Brink Bennett Flaherty Golden; Mandi Matlock ‘00, Texas RioGrande Legal Aid; and Brooke Laurie, IRS Office of Chief Counsel. Moderated by <a href="https://www.mondriklaw.com/index.php?id=5">Christi Mondrik, '01</a>, Mondrik &amp; Associates and <a href="http://www.seaytaxlaw.com/about-us/amanda-traphagan/">Amanda Traphagan</a> ‘08, Seay &amp; Traphagan.</p>
  <p>Lunch will be served. RSVP by Monday, March 19, on <a href="https://law-utexas-csm.symplicity.com/students/"> Symplicity</a> by selecting the "Events" tab.</p>\n\nIf you need an accommodation to participate in this event, please contact the event sponsor or the Texas Law Special Events Office at specialevents@law.utexas.edu no later than seven business days prior to the event.
X-ALT-DESC;FMTTYPE=text/html:<p>The <a href="http://www.texastaxsection.org/">State Bar of Texas Tax Section</a> will present a discussion about various career opportunities in the area of tax law. Panelists include Nancy Prosser ‘93, General Counsel for the Texas Comptroller of Public Accounts; <a href="http://www.nortonrosefulbright.com/people/90239/patricklodaniel">Patrick O'Daniel, '92</a>, Partner, Norton Rose Fulbright; <a href="https://bbfglaw.com/rhonda-brink.html">Rhonda Brink</a> ‘74, Brink Bennett Flaherty Golden; Mandi Matlock ‘00, Texas RioGrande Legal Aid; and Brooke Laurie, IRS Office of Chief Counsel. Moderated by <a href="https://www.mondriklaw.com/index.php?id=5">Christi Mondrik, '01</a>, Mondrik &amp; Associates and <a href="http://www.seaytaxlaw.com/about-us/amanda-traphagan/">Amanda Traphagan</a> ‘08, Seay &amp; Traphagan.</p>
  <p>Lunch will be served. RSVP by Monday, March 19, on <a href="https://law-utexas-csm.symplicity.com/students/"> Symplicity</a> by selecting the "Events" tab.</p><p>If you need an accommodation to participate in this event, please contact the event
                                          event sponsor or the Texas Law Special Events Office at <a href="mailto:specialevents@law.utexas.edu">specialevents@law.utexas.edu</a> no later than seven business days prior to the event.</p>
CATEGORIES:Panel Discussion / Speaker Series
LOCATION:TNH 2.139 - Wilson Classroom
URL:http://law.utexas.edu/calendar/2018/03/20/36564/
CLASS:PUBLIC
STATUS:CONFIRMED
COMMENT:Please contact Denyse Demel, Career Counselor, at <a href="mailto:ddemel@law.utexas.edu">ddemel@law.utexas.edu</a>.
END:VEVENT
END:VCALENDAR