BEGIN:VCALENDAR
VERSION:2.0
PRODID:-//UNIVERSITY OF TEXAS SCHOOL OF LAW//NONSGML Events Calendar v1.0//EN
X-WR-TIMEZONE:America/Chicago
BEGIN:VTIMEZONE
TZID:US/Central
X-LIC-LOCATION:America/Chicago
BEGIN:DAYLIGHT
TZOFFSETFROM:-0600
TZOFFSETTO:-0500
TZNAME:CDT
DTSTART:19700308T020000
RRULE:FREQ=YEARLY;BYMONTH=3;BYDAY=2SU
END:DAYLIGHT
BEGIN:STANDARD
TZOFFSETFROM:-0500
TZOFFSETTO:-0600
TZNAME:CST
DTSTART:19701101T020000
RRULE:FREQ=YEARLY;BYMONTH=11;BYDAY=1SU
END:STANDARD
END:VTIMEZONE
BEGIN:VEVENT
DTSTART;TZID=US/Central:20180320T153000
DTEND;VALUE=DATE-TIME;TZID=US/Central:20180320T160000

DTSTAMP:20260419T215300Z
CREATED:20180301T202400Z
LAST-MODIFIED:20180319T154600Z
UID:20180320T153000-37285@law.utexas.edu
SUMMARY:1L Early Registration Info Session
DESCRIPTION:<p>Early Registration for Fall 2018 begins on Monday, March 26. This optional session will review how the Early Registration system works and considerations in ranking courses within the system. The session will repeat on Thursday, 3/22 at 3:30 pm in TNH 2.140. </p>\n\nIf you need an accommodation to participate in this event, please contact the event sponsor or the Texas Law Special Events Office at specialevents@law.utexas.edu no later than seven business days prior to the event.
X-ALT-DESC;FMTTYPE=text/html:<p>Early Registration for Fall 2018 begins on Monday, March 26. This optional session will review how the Early Registration system works and considerations in ranking courses within the system. The session will repeat on Thursday, 3/22 at 3:30 pm in TNH 2.140. </p><p>If you need an accommodation to participate in this event, please contact the event
                                          event sponsor or the Texas Law Special Events Office at <a href="mailto:specialevents@law.utexas.edu">specialevents@law.utexas.edu</a> no later than seven business days prior to the event.</p>
CATEGORIES:Workshop / Training Program
LOCATION:TNH 2.114 - Francis Auditorium
URL:http://law.utexas.edu/calendar/2018/03/20/37285/
CLASS:PUBLIC
STATUS:CONFIRMED

END:VEVENT
END:VCALENDAR