BEGIN:VCALENDAR
VERSION:2.0
PRODID:-//UNIVERSITY OF TEXAS SCHOOL OF LAW//NONSGML Events Calendar v1.0//EN
X-WR-TIMEZONE:America/Chicago
BEGIN:VTIMEZONE
TZID:US/Central
X-LIC-LOCATION:America/Chicago
BEGIN:DAYLIGHT
TZOFFSETFROM:-0600
TZOFFSETTO:-0500
TZNAME:CDT
DTSTART:19700308T020000
RRULE:FREQ=YEARLY;BYMONTH=3;BYDAY=2SU
END:DAYLIGHT
BEGIN:STANDARD
TZOFFSETFROM:-0500
TZOFFSETTO:-0600
TZNAME:CST
DTSTART:19701101T020000
RRULE:FREQ=YEARLY;BYMONTH=11;BYDAY=1SU
END:STANDARD
END:VTIMEZONE
BEGIN:VEVENT
DTSTART;TZID=US/Central:20180322T114500
DTEND;VALUE=DATE-TIME;TZID=US/Central:20180322T124500

DTSTAMP:20260419T163300Z
CREATED:20171219T171700Z
LAST-MODIFIED:20180321T145200Z
UID:20180322T114500-35644@law.utexas.edu
SUMMARY:Careers in Public Defense
DESCRIPTION:<p>Learn about the pathways to becoming a public defender and what the job entails. Panelists include <a href="https://www.forensicproject.org/meet-the-team">Trudy Strassburger</a>, Capital Area Private Defender Service; <a href="http://www.ocfw.texas.gov/office-of-capital-and-forensic-writs/staff-directory/carlotta-lepingwell/">Carlotta Lepingwell</a> and <a href="http://www.ocfw.texas.gov/office-of-capital-and-forensic-writs/staff-directory/natalie-corvington/">Natalie Corvington</a>, Office of Capital and Forensic Writs. Moderated by Prof. Chris Roberts.</p>
  <p>Lunch will be served. <a href="https://law.utexas.edu/career/texas-law-professional-development-institute/texas-law-professional-development-institute-registration/">RSVP online</a> by Wednesday, March 21. Part of the Texas Law Professional Development Institute: Prepared for Practice. </p>\n\nIf you need an accommodation to participate in this event, please contact the event sponsor or the Texas Law Special Events Office at specialevents@law.utexas.edu no later than seven business days prior to the event.
X-ALT-DESC;FMTTYPE=text/html:<p>Learn about the pathways to becoming a public defender and what the job entails. Panelists include <a href="https://www.forensicproject.org/meet-the-team">Trudy Strassburger</a>, Capital Area Private Defender Service; <a href="http://www.ocfw.texas.gov/office-of-capital-and-forensic-writs/staff-directory/carlotta-lepingwell/">Carlotta Lepingwell</a> and <a href="http://www.ocfw.texas.gov/office-of-capital-and-forensic-writs/staff-directory/natalie-corvington/">Natalie Corvington</a>, Office of Capital and Forensic Writs. Moderated by Prof. Chris Roberts.</p>
  <p>Lunch will be served. <a href="https://law.utexas.edu/career/texas-law-professional-development-institute/texas-law-professional-development-institute-registration/">RSVP online</a> by Wednesday, March 21. Part of the Texas Law Professional Development Institute: Prepared for Practice. </p><p>If you need an accommodation to participate in this event, please contact the event
                                          event sponsor or the Texas Law Special Events Office at <a href="mailto:specialevents@law.utexas.edu">specialevents@law.utexas.edu</a> no later than seven business days prior to the event.</p>
CATEGORIES:Panel Discussion / Speaker Series
LOCATION:TNH 2.139 - Wilson Classroom
URL:http://law.utexas.edu/calendar/2018/03/22/35644/
CLASS:PUBLIC
STATUS:CONFIRMED
COMMENT:Please contact Lawson Konvanlinka, Public Interest Career Counselor, at <a href="mailto:lkonvalinka@law.utexas.edu">lkonvalinka@law.utexas.edu</a>.
END:VEVENT
END:VCALENDAR