BEGIN:VCALENDAR
VERSION:2.0
PRODID:-//UNIVERSITY OF TEXAS SCHOOL OF LAW//NONSGML Events Calendar v1.0//EN
X-WR-TIMEZONE:America/Chicago
BEGIN:VTIMEZONE
TZID:US/Central
X-LIC-LOCATION:America/Chicago
BEGIN:DAYLIGHT
TZOFFSETFROM:-0600
TZOFFSETTO:-0500
TZNAME:CDT
DTSTART:19700308T020000
RRULE:FREQ=YEARLY;BYMONTH=3;BYDAY=2SU
END:DAYLIGHT
BEGIN:STANDARD
TZOFFSETFROM:-0500
TZOFFSETTO:-0600
TZNAME:CST
DTSTART:19701101T020000
RRULE:FREQ=YEARLY;BYMONTH=11;BYDAY=1SU
END:STANDARD
END:VTIMEZONE
BEGIN:VEVENT
DTSTART;TZID=US/Central:20180326T114500
DTEND;VALUE=DATE-TIME;TZID=US/Central:20180326T131500

DTSTAMP:20260419T175900Z
CREATED:20180208T205200Z
LAST-MODIFIED:20180320T195000Z
UID:20180326T114500-36724@law.utexas.edu
SUMMARY:Diversity and Inclusion in the Legal Pro
DESCRIPTION:<p>Diversity and Inclusion in the Legal Profession: ABA Findings on LGBT+ Lawyers and Lawyers with Disabilities</p>
  <p>11:45 am -1:15 pm, lunch provided</p>
  <p>Join us for a talk followed by discussion with <a href="http://law.syr.edu/profile/peter-blanck1">Peter Blanck</a>, chairman of the <a href="http://bbi.syr.edu/">Burton Blatt Institute</a> at Syracuse University.</p>
  <p>In 2017, the American Bar Association launched a first-of-its kind nationwide longitudinal study, conducted by the Burton Blatt Institute, to identify biases encountered by disabled and LGBT+ lawyers in the legal profession, and to help develop and implement strategies to ameliorate such biases. This talk presents preliminary findings from this national study, based on responses from 1,000 lawyers across the United States. The initial findings suggest the need for continuing efforts to promote the full and equal participation of all diverse persons, including lawyers with disabilities and who are LGBT+, in the legal profession. </p>
  <p>This event is free and open to the public. Registration required. Please RSVP <a href="https://peterblanck.eventbrite.com">here</a> to reserve your spot and lunch.</p>\n\nIf you need an accommodation to participate in this event, please contact the event sponsor or the Texas Law Special Events Office at specialevents@law.utexas.edu no later than seven business days prior to the event.
X-ALT-DESC;FMTTYPE=text/html:<p>Diversity and Inclusion in the Legal Profession: ABA Findings on LGBT+ Lawyers and Lawyers with Disabilities</p>
  <p>11:45 am -1:15 pm, lunch provided</p>
  <p>Join us for a talk followed by discussion with <a href="http://law.syr.edu/profile/peter-blanck1">Peter Blanck</a>, chairman of the <a href="http://bbi.syr.edu/">Burton Blatt Institute</a> at Syracuse University.</p>
  <p>In 2017, the American Bar Association launched a first-of-its kind nationwide longitudinal study, conducted by the Burton Blatt Institute, to identify biases encountered by disabled and LGBT+ lawyers in the legal profession, and to help develop and implement strategies to ameliorate such biases. This talk presents preliminary findings from this national study, based on responses from 1,000 lawyers across the United States. The initial findings suggest the need for continuing efforts to promote the full and equal participation of all diverse persons, including lawyers with disabilities and who are LGBT+, in the legal profession. </p>
  <p>This event is free and open to the public. Registration required. Please RSVP <a href="https://peterblanck.eventbrite.com">here</a> to reserve your spot and lunch.</p><p>If you need an accommodation to participate in this event, please contact the event
                                          event sponsor or the Texas Law Special Events Office at <a href="mailto:specialevents@law.utexas.edu">specialevents@law.utexas.edu</a> no later than seven business days prior to the event.</p>
CATEGORIES:Other
LOCATION:TNH 3.126 - Ratliff Classroom
URL:http://law.utexas.edu/calendar/2018/03/26/36724/
CLASS:PUBLIC
STATUS:CONFIRMED

END:VEVENT
END:VCALENDAR