BEGIN:VCALENDAR
VERSION:2.0
PRODID:-//UNIVERSITY OF TEXAS SCHOOL OF LAW//NONSGML Events Calendar v1.0//EN
X-WR-TIMEZONE:America/Chicago
BEGIN:VTIMEZONE
TZID:US/Central
X-LIC-LOCATION:America/Chicago
BEGIN:DAYLIGHT
TZOFFSETFROM:-0600
TZOFFSETTO:-0500
TZNAME:CDT
DTSTART:19700308T020000
RRULE:FREQ=YEARLY;BYMONTH=3;BYDAY=2SU
END:DAYLIGHT
BEGIN:STANDARD
TZOFFSETFROM:-0500
TZOFFSETTO:-0600
TZNAME:CST
DTSTART:19701101T020000
RRULE:FREQ=YEARLY;BYMONTH=11;BYDAY=1SU
END:STANDARD
END:VTIMEZONE
BEGIN:VEVENT
DTSTART;TZID=US/Central:20180326T154500
DTEND;VALUE=DATE-TIME;TZID=US/Central:20180326T174500

DTSTAMP:20260419T161300Z
CREATED:20180215T180800Z
LAST-MODIFIED:20180215T180800Z
UID:20180326T154500-36884@law.utexas.edu
SUMMARY:Law and Economic Seminar -
DESCRIPTION:<p>      </p>\n\nIf you need an accommodation to participate in this event, please contact the event sponsor or the Texas Law Special Events Office at specialevents@law.utexas.edu no later than seven business days prior to the event. Speaker: Frances Xu lee, P, Loyola
X-ALT-DESC;FMTTYPE=text/html:<p>      </p><p>If you need an accommodation to participate in this event, please contact the event
                                          event sponsor or the Texas Law Special Events Office at <a href="mailto:specialevents@law.utexas.edu">specialevents@law.utexas.edu</a> no later than seven business days prior to the event.</p> Speaker: Frances Xu lee, P, Loyola

LOCATION:TNH 3.126 - Ratliff Classroom
URL:http://law.utexas.edu/calendar/2018/03/26/36884/
CLASS:PUBLIC
STATUS:CONFIRMED

END:VEVENT
END:VCALENDAR