BEGIN:VCALENDAR
VERSION:2.0
PRODID:-//UNIVERSITY OF TEXAS SCHOOL OF LAW//NONSGML Events Calendar v1.0//EN
X-WR-TIMEZONE:America/Chicago
BEGIN:VTIMEZONE
TZID:US/Central
X-LIC-LOCATION:America/Chicago
BEGIN:DAYLIGHT
TZOFFSETFROM:-0600
TZOFFSETTO:-0500
TZNAME:CDT
DTSTART:19700308T020000
RRULE:FREQ=YEARLY;BYMONTH=3;BYDAY=2SU
END:DAYLIGHT
BEGIN:STANDARD
TZOFFSETFROM:-0500
TZOFFSETTO:-0600
TZNAME:CST
DTSTART:19701101T020000
RRULE:FREQ=YEARLY;BYMONTH=11;BYDAY=1SU
END:STANDARD
END:VTIMEZONE
BEGIN:VEVENT
DTSTART;TZID=US/Central:20180326T114500
DTEND;VALUE=DATE-TIME;TZID=US/Central:20180326T124500

DTSTAMP:20260419T180200Z
CREATED:20180320T162400Z
LAST-MODIFIED:20180320T162400Z
UID:20180326T114500-37864@law.utexas.edu
SUMMARY:IPLS hosts North Star Consultants
DESCRIPTION:<p>North Star Consultants of Texas is one of the largest independent and privately-held financial firms in the country – we’ve been doing presentations in Texas for over 15 years now specifically geared towards Young Lawyers and have spoken for numerous groups around the state including: the Young Lawyer’s Association, St. Mary’s Law School, and The Austin Bar Association, just to name a few. The theme of the talk is “What it means to be Financially Healthy” as a Law Student transitioning into the Practicing world. Some of the topics we discuss:</p>
  <p>·         Balancing paying down student loans and saving
  ·         Home buying Basics
  ·         Risk management – protecting yourself, your practice, and your family
  ·         Investing Basics
  ·         Company Benefits Review
  ·         Asset Protection Strategies</p>\n\nIf you need an accommodation to participate in this event, please contact the event sponsor or the Texas Law Special Events Office at specialevents@law.utexas.edu no later than seven business days prior to the event.
X-ALT-DESC;FMTTYPE=text/html:<p>North Star Consultants of Texas is one of the largest independent and privately-held financial firms in the country – we’ve been doing presentations in Texas for over 15 years now specifically geared towards Young Lawyers and have spoken for numerous groups around the state including: the Young Lawyer’s Association, St. Mary’s Law School, and The Austin Bar Association, just to name a few. The theme of the talk is “What it means to be Financially Healthy” as a Law Student transitioning into the Practicing world. Some of the topics we discuss:</p>
  <p>·         Balancing paying down student loans and saving
  ·         Home buying Basics
  ·         Risk management – protecting yourself, your practice, and your family
  ·         Investing Basics
  ·         Company Benefits Review
  ·         Asset Protection Strategies</p><p>If you need an accommodation to participate in this event, please contact the event
                                          event sponsor or the Texas Law Special Events Office at <a href="mailto:specialevents@law.utexas.edu">specialevents@law.utexas.edu</a> no later than seven business days prior to the event.</p>

LOCATION:TNH 3.124 - Neathery Classroom
URL:http://law.utexas.edu/calendar/2018/03/26/37864/
CLASS:PUBLIC
STATUS:CONFIRMED

END:VEVENT
END:VCALENDAR