BEGIN:VCALENDAR
VERSION:2.0
PRODID:-//UNIVERSITY OF TEXAS SCHOOL OF LAW//NONSGML Events Calendar v1.0//EN
X-WR-TIMEZONE:America/Chicago
BEGIN:VTIMEZONE
TZID:US/Central
X-LIC-LOCATION:America/Chicago
BEGIN:DAYLIGHT
TZOFFSETFROM:-0600
TZOFFSETTO:-0500
TZNAME:CDT
DTSTART:19700308T020000
RRULE:FREQ=YEARLY;BYMONTH=3;BYDAY=2SU
END:DAYLIGHT
BEGIN:STANDARD
TZOFFSETFROM:-0500
TZOFFSETTO:-0600
TZNAME:CST
DTSTART:19701101T020000
RRULE:FREQ=YEARLY;BYMONTH=11;BYDAY=1SU
END:STANDARD
END:VTIMEZONE
BEGIN:VEVENT
DTSTART;TZID=US/Central:20180326T140000
DTEND;VALUE=DATE-TIME;TZID=US/Central:20180326T160000

DTSTAMP:20260419T133300Z
CREATED:20180326T155300Z
LAST-MODIFIED:20180326T155300Z
UID:20180326T140000-38024@law.utexas.edu
SUMMARY:Atrium Advising
DESCRIPTION:<p>Dean Bangs, Brandi Welch and Rick Garza (and any possible combination of the three) will be in the Atrium all week to advise you on course selection for Fall 2018. 
  Monday, 3/26: 2-4pm
  Tuesday, 3/27: 1-2:30pm
  Wednesday, 3/28 12-1:30pm
  Thursday, 3/29: 10-11:30am
  Friday, 3/30: 10-11am
  Stop by with your questions! Can't make it? You are always welcome in our offices - drop by or email questions to Brandi Welch at bwelch@law.utexas.edu. 
  </p>\n\nIf you need an accommodation to participate in this event, please contact the event sponsor or the Texas Law Special Events Office at specialevents@law.utexas.edu no later than seven business days prior to the event.
X-ALT-DESC;FMTTYPE=text/html:<p>Dean Bangs, Brandi Welch and Rick Garza (and any possible combination of the three) will be in the Atrium all week to advise you on course selection for Fall 2018. 
  Monday, 3/26: 2-4pm
  Tuesday, 3/27: 1-2:30pm
  Wednesday, 3/28 12-1:30pm
  Thursday, 3/29: 10-11:30am
  Friday, 3/30: 10-11am
  Stop by with your questions! Can't make it? You are always welcome in our offices - drop by or email questions to Brandi Welch at bwelch@law.utexas.edu. 
  </p><p>If you need an accommodation to participate in this event, please contact the event
                                          event sponsor or the Texas Law Special Events Office at <a href="mailto:specialevents@law.utexas.edu">specialevents@law.utexas.edu</a> no later than seven business days prior to the event.</p>
CATEGORIES:Workshop / Training Program
LOCATION:TNH 2.100 - Susman Godfrey Atrium
URL:http://law.utexas.edu/calendar/2018/03/26/38024/
CLASS:PUBLIC
STATUS:CONFIRMED

END:VEVENT
END:VCALENDAR