BEGIN:VCALENDAR
VERSION:2.0
PRODID:-//UNIVERSITY OF TEXAS SCHOOL OF LAW//NONSGML Events Calendar v1.0//EN
X-WR-TIMEZONE:America/Chicago
BEGIN:VTIMEZONE
TZID:US/Central
X-LIC-LOCATION:America/Chicago
BEGIN:DAYLIGHT
TZOFFSETFROM:-0600
TZOFFSETTO:-0500
TZNAME:CDT
DTSTART:19700308T020000
RRULE:FREQ=YEARLY;BYMONTH=3;BYDAY=2SU
END:DAYLIGHT
BEGIN:STANDARD
TZOFFSETFROM:-0500
TZOFFSETTO:-0600
TZNAME:CST
DTSTART:19701101T020000
RRULE:FREQ=YEARLY;BYMONTH=11;BYDAY=1SU
END:STANDARD
END:VTIMEZONE
BEGIN:VEVENT
DTSTART;TZID=US/Central:20180327T114500
DTEND;VALUE=DATE-TIME;TZID=US/Central:20180327T124500

DTSTAMP:20260419T172700Z
CREATED:20171214T174700Z
LAST-MODIFIED:20180321T162000Z
UID:20180327T114500-35546@law.utexas.edu
SUMMARY:Careers in Prosecution
DESCRIPTION:<p>Learn about the pathways to becoming a prosecutor at the state or federal level. Panelists include <a href="https://www.linkedin.com/in/mindy-montford-aaa14b52">Mindy Montford, ’95</a>, First Assistant District Attorney, Travis County District Attorney’s Office; <a href="https://law.utexas.edu/faculty/jeremy-s-sylestine/">Jeremy Sylestine</a>, Assistant District Attorney, Travis County District Attorney’s Office and Adjunct Professor, <a href="https://law.utexas.edu/internships/prosecution-internship/">Texas Law Prosecution Internship</a>; Sharon Pierce, Assistant U.S. Attorney, U.S. Attorney’s Office for the Western District of Texas; and <a href="http://tyrustimmregistry.org/?q=content/tanner-lisa">Lisa Tanner</a>, Division Chief of the Criminal Prosecutions Division, Texas Attorney General’s Office. Moderated by <a href="https://law.utexas.edu/faculty/robert-n-kepple/">Rob Kepple</a>, Executive Director of the Texas District and County Attorney’s Association and Adjunct Professor, <a href="https://law.utexas.edu/internships/prosecution-internship/">Texas Law Prosecution Internship</a>.</p>
  <p>Lunch will be served after the program. <a href="https://law.utexas.edu/career/texas-law-professional-development-institute/texas-law-professional-development-institute-registration/">RSVP online</a> by Monday, March 26. Part of the Texas Law Professional Development Institute: Prepared for Practice. </p>\n\nIf you need an accommodation to participate in this event, please contact the event sponsor or the Texas Law Special Events Office at specialevents@law.utexas.edu no later than seven business days prior to the event.
X-ALT-DESC;FMTTYPE=text/html:<p>Learn about the pathways to becoming a prosecutor at the state or federal level. Panelists include <a href="https://www.linkedin.com/in/mindy-montford-aaa14b52">Mindy Montford, ’95</a>, First Assistant District Attorney, Travis County District Attorney’s Office; <a href="https://law.utexas.edu/faculty/jeremy-s-sylestine/">Jeremy Sylestine</a>, Assistant District Attorney, Travis County District Attorney’s Office and Adjunct Professor, <a href="https://law.utexas.edu/internships/prosecution-internship/">Texas Law Prosecution Internship</a>; Sharon Pierce, Assistant U.S. Attorney, U.S. Attorney’s Office for the Western District of Texas; and <a href="http://tyrustimmregistry.org/?q=content/tanner-lisa">Lisa Tanner</a>, Division Chief of the Criminal Prosecutions Division, Texas Attorney General’s Office. Moderated by <a href="https://law.utexas.edu/faculty/robert-n-kepple/">Rob Kepple</a>, Executive Director of the Texas District and County Attorney’s Association and Adjunct Professor, <a href="https://law.utexas.edu/internships/prosecution-internship/">Texas Law Prosecution Internship</a>.</p>
  <p>Lunch will be served after the program. <a href="https://law.utexas.edu/career/texas-law-professional-development-institute/texas-law-professional-development-institute-registration/">RSVP online</a> by Monday, March 26. Part of the Texas Law Professional Development Institute: Prepared for Practice. </p><p>If you need an accommodation to participate in this event, please contact the event
                                          event sponsor or the Texas Law Special Events Office at <a href="mailto:specialevents@law.utexas.edu">specialevents@law.utexas.edu</a> no later than seven business days prior to the event.</p>

LOCATION:CCJ 2.306 - Eidman Courtroom
URL:http://law.utexas.edu/calendar/2018/03/27/35546/
CLASS:PUBLIC
STATUS:CONFIRMED
COMMENT:Please contact Kaycee Crisp, Government Career Counselor, at <a href="mailto:kcrisp@law.utexas.edu">kcrisp@law.utexas.edu</a>.
END:VEVENT
END:VCALENDAR