BEGIN:VCALENDAR
VERSION:2.0
PRODID:-//UNIVERSITY OF TEXAS SCHOOL OF LAW//NONSGML Events Calendar v1.0//EN
X-WR-TIMEZONE:America/Chicago
BEGIN:VTIMEZONE
TZID:US/Central
X-LIC-LOCATION:America/Chicago
BEGIN:DAYLIGHT
TZOFFSETFROM:-0600
TZOFFSETTO:-0500
TZNAME:CDT
DTSTART:19700308T020000
RRULE:FREQ=YEARLY;BYMONTH=3;BYDAY=2SU
END:DAYLIGHT
BEGIN:STANDARD
TZOFFSETFROM:-0500
TZOFFSETTO:-0600
TZNAME:CST
DTSTART:19701101T020000
RRULE:FREQ=YEARLY;BYMONTH=11;BYDAY=1SU
END:STANDARD
END:VTIMEZONE
BEGIN:VEVENT
DTSTART;TZID=US/Central:20180329T173000
DTEND;VALUE=DATE-TIME;TZID=US/Central:20180329T190000

DTSTAMP:20260419T150500Z
CREATED:20180318T231800Z
LAST-MODIFIED:20180318T231800Z
UID:20180329T173000-37724@law.utexas.edu
SUMMARY:Speedwork Beyond the Bar: JD Advantage
DESCRIPTION:<p>We’ve got proof that your J.D. can be used in many ways other than the traditional practice of law! The Career Services Office invites Texas Law students and alumni/friends for an evening of meaningful discussion and relationship building with like-minded individuals who know the value of venturing outside the box. We’ll be meeting at The Refinery, a creative coworking space in the heart of Downtown Austin. </p>
  <p>The Refinery | 612 Brazos Street, Austin, TX </p>
  <p>Mix &amp; Mingle 5:30-6:00 p.m. | Cluster Conversations 6:00-7:00 p.m.</p>
  <p>Drinks and hors d’oeuvres will be served. Dress is business casual. RSVP by Wedbesday, March 28, on <a href="https://law-utexas-csm.symplicity.com/students/"> Symplicity</a> by selecting the "Events" tab.</p>\n\nIf you need an accommodation to participate in this event, please contact the event sponsor or the Texas Law Special Events Office at specialevents@law.utexas.edu no later than seven business days prior to the event.
X-ALT-DESC;FMTTYPE=text/html:<p>We’ve got proof that your J.D. can be used in many ways other than the traditional practice of law! The Career Services Office invites Texas Law students and alumni/friends for an evening of meaningful discussion and relationship building with like-minded individuals who know the value of venturing outside the box. We’ll be meeting at The Refinery, a creative coworking space in the heart of Downtown Austin. </p>
  <p>The Refinery | 612 Brazos Street, Austin, TX </p>
  <p>Mix &amp; Mingle 5:30-6:00 p.m. | Cluster Conversations 6:00-7:00 p.m.</p>
  <p>Drinks and hors d’oeuvres will be served. Dress is business casual. RSVP by Wedbesday, March 28, on <a href="https://law-utexas-csm.symplicity.com/students/"> Symplicity</a> by selecting the "Events" tab.</p><p>If you need an accommodation to participate in this event, please contact the event
                                          event sponsor or the Texas Law Special Events Office at <a href="mailto:specialevents@law.utexas.edu">specialevents@law.utexas.edu</a> no later than seven business days prior to the event.</p>
CATEGORIES:Reception
LOCATION:The Refinery, Downtown Austin
URL:http://law.utexas.edu/calendar/2018/03/29/37724/
CLASS:PUBLIC
STATUS:CONFIRMED
COMMENT:Please contact Angelica Evans, Associate Director for Career Services, <a href="mailto:%20aevans@law.utexas.edu">aevans@law.utexas.edu</a>. at
END:VEVENT
END:VCALENDAR