BEGIN:VCALENDAR
VERSION:2.0
PRODID:-//UNIVERSITY OF TEXAS SCHOOL OF LAW//NONSGML Events Calendar v1.0//EN
X-WR-TIMEZONE:America/Chicago
BEGIN:VTIMEZONE
TZID:US/Central
X-LIC-LOCATION:America/Chicago
BEGIN:DAYLIGHT
TZOFFSETFROM:-0600
TZOFFSETTO:-0500
TZNAME:CDT
DTSTART:19700308T020000
RRULE:FREQ=YEARLY;BYMONTH=3;BYDAY=2SU
END:DAYLIGHT
BEGIN:STANDARD
TZOFFSETFROM:-0500
TZOFFSETTO:-0600
TZNAME:CST
DTSTART:19701101T020000
RRULE:FREQ=YEARLY;BYMONTH=11;BYDAY=1SU
END:STANDARD
END:VTIMEZONE
BEGIN:VEVENT
DTSTART;TZID=US/Central:20180402T154500
DTEND;VALUE=DATE-TIME;TZID=US/Central:20180402T180000

DTSTAMP:20260419T163400Z
CREATED:20180309T202000Z
LAST-MODIFIED:20180327T133600Z
UID:20180402T154500-37567@law.utexas.edu
SUMMARY:G. Rollie White Scholar in Residence
DESCRIPTION:<p>The Justice Center invites you to hear Michael Allen speak on “Using Modern Impact Litigation to Advance Civil Rights” on April 2 at 3:45 in the Eidman Courtroom. Allen is an outstanding advocate and speaker and both the issues and the litigation techniques used are very interesting. Allen is with Relman, Dane &amp; Colfax, a civil rights law firm based in Washington, D.C. The firm litigates cases in the areas of housing, lending, employment, public accommodations, education, and police accountability. The national practice includes individual and class action lawsuits on behalf of plaintiffs with claims of discrimination and harassment on the basis of race, national origin, color, religion, sex, disability, age, familial status, source of income, and sexual orientation. </p>
  <p>Reception to follow in the Jamail Pavilion.</p>\n\nIf you need an accommodation to participate in this event, please contact the event sponsor or the Texas Law Special Events Office at specialevents@law.utexas.edu no later than seven business days prior to the event. Speaker: Michael Allen
X-ALT-DESC;FMTTYPE=text/html:<p>The Justice Center invites you to hear Michael Allen speak on “Using Modern Impact Litigation to Advance Civil Rights” on April 2 at 3:45 in the Eidman Courtroom. Allen is an outstanding advocate and speaker and both the issues and the litigation techniques used are very interesting. Allen is with Relman, Dane &amp; Colfax, a civil rights law firm based in Washington, D.C. The firm litigates cases in the areas of housing, lending, employment, public accommodations, education, and police accountability. The national practice includes individual and class action lawsuits on behalf of plaintiffs with claims of discrimination and harassment on the basis of race, national origin, color, religion, sex, disability, age, familial status, source of income, and sexual orientation. </p>
  <p>Reception to follow in the Jamail Pavilion.</p><p>If you need an accommodation to participate in this event, please contact the event
                                          event sponsor or the Texas Law Special Events Office at <a href="mailto:specialevents@law.utexas.edu">specialevents@law.utexas.edu</a> no later than seven business days prior to the event.</p> Speaker: Michael Allen

LOCATION:CCJ 2.306 - Eidman Courtroom
URL:http://law.utexas.edu/calendar/2018/04/02/37567/
CLASS:PUBLIC
STATUS:CONFIRMED

END:VEVENT
END:VCALENDAR