BEGIN:VCALENDAR
VERSION:2.0
PRODID:-//UNIVERSITY OF TEXAS SCHOOL OF LAW//NONSGML Events Calendar v1.0//EN
X-WR-TIMEZONE:America/Chicago
BEGIN:VTIMEZONE
TZID:US/Central
X-LIC-LOCATION:America/Chicago
BEGIN:DAYLIGHT
TZOFFSETFROM:-0600
TZOFFSETTO:-0500
TZNAME:CDT
DTSTART:19700308T020000
RRULE:FREQ=YEARLY;BYMONTH=3;BYDAY=2SU
END:DAYLIGHT
BEGIN:STANDARD
TZOFFSETFROM:-0500
TZOFFSETTO:-0600
TZNAME:CST
DTSTART:19701101T020000
RRULE:FREQ=YEARLY;BYMONTH=11;BYDAY=1SU
END:STANDARD
END:VTIMEZONE
BEGIN:VEVENT
DTSTART;TZID=US/Central:20180405T181500
DTEND;VALUE=DATE-TIME;TZID=US/Central:20180405T203000

DTSTAMP:20260419T150900Z
CREATED:20171213T194700Z
LAST-MODIFIED:20180320T233700Z
UID:20180405T181500-35525@law.utexas.edu
SUMMARY:1L Etiquette Dinner
DESCRIPTION:<p><strong>Sign-up is on a first-come, first-served basis tonight (Tuesday, March 20, 2018) at 9 p.m. </strong>via <a href="https://law-utexas-csm.symplicity.com/track/6faae3dee23b10a5031d961e23179005/1145460484/realurl=https:/www.eventbrite.com/e/texas-law-1l-etiquette-dinner-april-5-2018-tickets-43217207832">Eventbrite</a>. Space is limited to 75 1Ls!</p>
  <p>Learn the finer points of business dining and protocol over a three-course seated dinner with wine presented by <a href="https://law-utexas-csm.symplicity.com/track/6faae3dee23b10a5031d961e23179005/1145460484/realurl=http:/www.marycrane.com/">Mary Crane</a> on Thursday, April 5, at the UT Club (2108 Robert Dedman Drive). The dinner is generously sponsored by <a href="https://law-utexas-csm.symplicity.com/track/6faae3dee23b10a5031d961e23179005/1145460484/realurl=http:/www.lockelord.com/">Locke Lord LLP</a>, who will be hosting a cocktail reception for registered attendees prior to dinner from 6:15-7:00 p.m. Dress is business casual.</p>\n\nIf you need an accommodation to participate in this event, please contact the event sponsor or the Texas Law Special Events Office at specialevents@law.utexas.edu no later than seven business days prior to the event.
X-ALT-DESC;FMTTYPE=text/html:<p><strong>Sign-up is on a first-come, first-served basis tonight (Tuesday, March 20, 2018) at 9 p.m. </strong>via <a href="https://law-utexas-csm.symplicity.com/track/6faae3dee23b10a5031d961e23179005/1145460484/realurl=https:/www.eventbrite.com/e/texas-law-1l-etiquette-dinner-april-5-2018-tickets-43217207832">Eventbrite</a>. Space is limited to 75 1Ls!</p>
  <p>Learn the finer points of business dining and protocol over a three-course seated dinner with wine presented by <a href="https://law-utexas-csm.symplicity.com/track/6faae3dee23b10a5031d961e23179005/1145460484/realurl=http:/www.marycrane.com/">Mary Crane</a> on Thursday, April 5, at the UT Club (2108 Robert Dedman Drive). The dinner is generously sponsored by <a href="https://law-utexas-csm.symplicity.com/track/6faae3dee23b10a5031d961e23179005/1145460484/realurl=http:/www.lockelord.com/">Locke Lord LLP</a>, who will be hosting a cocktail reception for registered attendees prior to dinner from 6:15-7:00 p.m. Dress is business casual.</p><p>If you need an accommodation to participate in this event, please contact the event
                                          event sponsor or the Texas Law Special Events Office at <a href="mailto:specialevents@law.utexas.edu">specialevents@law.utexas.edu</a> no later than seven business days prior to the event.</p>
CATEGORIES:Workshop / Training Program
LOCATION:The University of Texas Club
URL:http://law.utexas.edu/calendar/2018/04/05/35525/
CLASS:PUBLIC
STATUS:CONFIRMED
COMMENT:Please contact Denyse Demel, Career Counselor, at <a href="mailto:ddemel@law.utexas.edu">ddemel@law.utexas.edu</a>.
END:VEVENT
END:VCALENDAR