BEGIN:VCALENDAR
VERSION:2.0
PRODID:-//UNIVERSITY OF TEXAS SCHOOL OF LAW//NONSGML Events Calendar v1.0//EN
X-WR-TIMEZONE:America/Chicago
BEGIN:VTIMEZONE
TZID:US/Central
X-LIC-LOCATION:America/Chicago
BEGIN:DAYLIGHT
TZOFFSETFROM:-0600
TZOFFSETTO:-0500
TZNAME:CDT
DTSTART:19700308T020000
RRULE:FREQ=YEARLY;BYMONTH=3;BYDAY=2SU
END:DAYLIGHT
BEGIN:STANDARD
TZOFFSETFROM:-0500
TZOFFSETTO:-0600
TZNAME:CST
DTSTART:19701101T020000
RRULE:FREQ=YEARLY;BYMONTH=11;BYDAY=1SU
END:STANDARD
END:VTIMEZONE
BEGIN:VEVENT
DTSTART;TZID=US/Central:20180405T114500
DTEND;VALUE=DATE-TIME;TZID=US/Central:20180405T130000

DTSTAMP:20260419T163700Z
CREATED:20180122T205300Z
LAST-MODIFIED:20180123T145200Z
UID:20180405T114500-36226@law.utexas.edu
SUMMARY:1Ls: What Are Judicial Clerkships?
DESCRIPTION:<p>1Ls: Come learn about judicial clerkships - what they are, why you should clerk, and what you need to be doing now to best position yourself to apply during your 2L year. If you are at all interested in a judicial clerkship, you should definitely come to this program.</p>
  <p>Lunch will be served. RSVP by Tuesday, April 3, on Symplicity by selecting the 'Events' tab.</p>\n\nIf you need an accommodation to participate in this event, please contact the event sponsor or the Texas Law Special Events Office at specialevents@law.utexas.edu no later than seven business days prior to the event.
X-ALT-DESC;FMTTYPE=text/html:<p>1Ls: Come learn about judicial clerkships - what they are, why you should clerk, and what you need to be doing now to best position yourself to apply during your 2L year. If you are at all interested in a judicial clerkship, you should definitely come to this program.</p>
  <p>Lunch will be served. RSVP by Tuesday, April 3, on Symplicity by selecting the 'Events' tab.</p><p>If you need an accommodation to participate in this event, please contact the event
                                          event sponsor or the Texas Law Special Events Office at <a href="mailto:specialevents@law.utexas.edu">specialevents@law.utexas.edu</a> no later than seven business days prior to the event.</p>
CATEGORIES:Other
LOCATION:CCJ 2.306 - Eidman Courtroom
URL:http://law.utexas.edu/calendar/2018/04/05/36226/
CLASS:PUBLIC
STATUS:CONFIRMED
COMMENT:clerk-admin@law.utexas.edu
END:VEVENT
END:VCALENDAR