BEGIN:VCALENDAR
VERSION:2.0
PRODID:-//UNIVERSITY OF TEXAS SCHOOL OF LAW//NONSGML Events Calendar v1.0//EN
X-WR-TIMEZONE:America/Chicago
BEGIN:VTIMEZONE
TZID:US/Central
X-LIC-LOCATION:America/Chicago
BEGIN:DAYLIGHT
TZOFFSETFROM:-0600
TZOFFSETTO:-0500
TZNAME:CDT
DTSTART:19700308T020000
RRULE:FREQ=YEARLY;BYMONTH=3;BYDAY=2SU
END:DAYLIGHT
BEGIN:STANDARD
TZOFFSETFROM:-0500
TZOFFSETTO:-0600
TZNAME:CST
DTSTART:19701101T020000
RRULE:FREQ=YEARLY;BYMONTH=11;BYDAY=1SU
END:STANDARD
END:VTIMEZONE
BEGIN:VEVENT
DTSTART;TZID=US/Central:20180406T090000
DTEND;VALUE=DATE-TIME;TZID=US/Central:20180406T170000

DTSTAMP:20260419T165300Z
CREATED:20170717T205900Z
LAST-MODIFIED:20180404T195700Z
UID:20180406T090000-31824@law.utexas.edu
SUMMARY:Capital Punishment Center Conference
DESCRIPTION:<p>
  The UT Law Capital Punishment Center will host its annual symposium on April 6 &amp; 7, 2018. </p>
  <p>This year’s conference, "Mitigation Advocacy," will discuss the growth of mitigation practice over the past 30-40 years along several dimensions: changes in best practices; empirical assessments of what "works" in mitigation development and presentation; the extension of mitigation practices to non-capital contexts; the importance of cultural competence in mitigation investigation; and the significance of mitigation to the practice of American capital punishment.  The goal of the conference is to understand the evolving role of mitigation development and presentation in criminal litigation.  We also hope to build momentum for the establishment of a mitigation program within UT's Capital Punishment Center.  The proposed program would bring together experts from a variety of disciplines at UT and beyond (law, social work, nursing, psychology, medicine, communications, journalism, etc.) to train students for careers as mitigation professionals and to research best mitigation practices (both within and outside of the capital context).   </p>
  <p>Please join the Capital Punishment Center faculty and a stellar group of nationally-renowned and local panelists for a retrospective examination of mitigation investigation in the modern era as well as group discussion of our vision for mitigation training and development moving forward.
  </p>\n\nIf you need an accommodation to participate in this event, please contact the event sponsor or the Texas Law Special Events Office at specialevents@law.utexas.edu no later than seven business days prior to the event.
X-ALT-DESC;FMTTYPE=text/html:<p>
  The UT Law Capital Punishment Center will host its annual symposium on April 6 &amp; 7, 2018. </p>
  <p>This year’s conference, "Mitigation Advocacy," will discuss the growth of mitigation practice over the past 30-40 years along several dimensions: changes in best practices; empirical assessments of what "works" in mitigation development and presentation; the extension of mitigation practices to non-capital contexts; the importance of cultural competence in mitigation investigation; and the significance of mitigation to the practice of American capital punishment.  The goal of the conference is to understand the evolving role of mitigation development and presentation in criminal litigation.  We also hope to build momentum for the establishment of a mitigation program within UT's Capital Punishment Center.  The proposed program would bring together experts from a variety of disciplines at UT and beyond (law, social work, nursing, psychology, medicine, communications, journalism, etc.) to train students for careers as mitigation professionals and to research best mitigation practices (both within and outside of the capital context).   </p>
  <p>Please join the Capital Punishment Center faculty and a stellar group of nationally-renowned and local panelists for a retrospective examination of mitigation investigation in the modern era as well as group discussion of our vision for mitigation training and development moving forward.
  </p><p>If you need an accommodation to participate in this event, please contact the event
                                          event sponsor or the Texas Law Special Events Office at <a href="mailto:specialevents@law.utexas.edu">specialevents@law.utexas.edu</a> no later than seven business days prior to the event.</p>

LOCATION:CCJ 2.306 - Eidman Courtroom
URL:http://law.utexas.edu/calendar/2018/04/06/31824/
CLASS:PUBLIC
STATUS:CONFIRMED

END:VEVENT
END:VCALENDAR