BEGIN:VCALENDAR
VERSION:2.0
PRODID:-//UNIVERSITY OF TEXAS SCHOOL OF LAW//NONSGML Events Calendar v1.0//EN
X-WR-TIMEZONE:America/Chicago
BEGIN:VTIMEZONE
TZID:US/Central
X-LIC-LOCATION:America/Chicago
BEGIN:DAYLIGHT
TZOFFSETFROM:-0600
TZOFFSETTO:-0500
TZNAME:CDT
DTSTART:19700308T020000
RRULE:FREQ=YEARLY;BYMONTH=3;BYDAY=2SU
END:DAYLIGHT
BEGIN:STANDARD
TZOFFSETFROM:-0500
TZOFFSETTO:-0600
TZNAME:CST
DTSTART:19701101T020000
RRULE:FREQ=YEARLY;BYMONTH=11;BYDAY=1SU
END:STANDARD
END:VTIMEZONE
BEGIN:VEVENT
DTSTART;TZID=US/Central:20180413T190000
DTEND;VALUE=DATE-TIME;TZID=US/Central:20180413T213000

DTSTAMP:20260419T145700Z
CREATED:20180216T150400Z
LAST-MODIFIED:20180216T150400Z
UID:20180413T190000-36945@law.utexas.edu
SUMMARY:Reunion 2018
DESCRIPTION:<p>7:00 p.m. — Reunion Kickoff Party, The Four Seasons Lawn
  Reunion kickoff with dinner and dancing, featuring live music from Radney Foster - No suits, no speeches—casual attire, good food, and pure fun!
  </p>\n\nIf you need an accommodation to participate in this event, please contact the event sponsor or the Texas Law Special Events Office at specialevents@law.utexas.edu no later than seven business days prior to the event.
X-ALT-DESC;FMTTYPE=text/html:<p>7:00 p.m. — Reunion Kickoff Party, The Four Seasons Lawn
  Reunion kickoff with dinner and dancing, featuring live music from Radney Foster - No suits, no speeches—casual attire, good food, and pure fun!
  </p><p>If you need an accommodation to participate in this event, please contact the event
                                          event sponsor or the Texas Law Special Events Office at <a href="mailto:specialevents@law.utexas.edu">specialevents@law.utexas.edu</a> no later than seven business days prior to the event.</p>
CATEGORIES:Reunion

URL:http://law.utexas.edu/calendar/2018/04/13/36945/
CLASS:PUBLIC
STATUS:CONFIRMED

END:VEVENT
END:VCALENDAR