BEGIN:VCALENDAR
VERSION:2.0
PRODID:-//UNIVERSITY OF TEXAS SCHOOL OF LAW//NONSGML Events Calendar v1.0//EN
X-WR-TIMEZONE:America/Chicago
BEGIN:VTIMEZONE
TZID:US/Central
X-LIC-LOCATION:America/Chicago
BEGIN:DAYLIGHT
TZOFFSETFROM:-0600
TZOFFSETTO:-0500
TZNAME:CDT
DTSTART:19700308T020000
RRULE:FREQ=YEARLY;BYMONTH=3;BYDAY=2SU
END:DAYLIGHT
BEGIN:STANDARD
TZOFFSETFROM:-0500
TZOFFSETTO:-0600
TZNAME:CST
DTSTART:19701101T020000
RRULE:FREQ=YEARLY;BYMONTH=11;BYDAY=1SU
END:STANDARD
END:VTIMEZONE
BEGIN:VEVENT
DTSTART;TZID=US/Central:20180413T113000
DTEND;VALUE=DATE-TIME;TZID=US/Central:20180413T133000

DTSTAMP:20260419T193700Z
CREATED:20180410T154200Z
LAST-MODIFIED:20180410T154200Z
UID:20180413T113000-38405@law.utexas.edu
SUMMARY:Drop-In Hours: LCLP for 3Ls
DESCRIPTION:<p>For 3Ls seeking permanent employment, come learn about Texas Law's three-month postgraduate internship program, the Long Career Launch Program (LCLP). Bring any questions you have about the Program, including host organization selection, application strategy, program benefits, and administrative logistics. LCLP Administrator Nicole Simmons will be on hand to answer questions and discuss how to maximize the benefit of LCLP. </p>
  <p>Refreshments will be served.</p>\n\nIf you need an accommodation to participate in this event, please contact the event sponsor or the Texas Law Special Events Office at specialevents@law.utexas.edu no later than seven business days prior to the event.
X-ALT-DESC;FMTTYPE=text/html:<p>For 3Ls seeking permanent employment, come learn about Texas Law's three-month postgraduate internship program, the Long Career Launch Program (LCLP). Bring any questions you have about the Program, including host organization selection, application strategy, program benefits, and administrative logistics. LCLP Administrator Nicole Simmons will be on hand to answer questions and discuss how to maximize the benefit of LCLP. </p>
  <p>Refreshments will be served.</p><p>If you need an accommodation to participate in this event, please contact the event
                                          event sponsor or the Texas Law Special Events Office at <a href="mailto:specialevents@law.utexas.edu">specialevents@law.utexas.edu</a> no later than seven business days prior to the event.</p>
CATEGORIES:Workshop / Training Program
LOCATION:Career Services Interview Suite, TNH 3.122
URL:http://law.utexas.edu/calendar/2018/04/13/38405/
CLASS:PUBLIC
STATUS:CONFIRMED
COMMENT:Please contact Nicole Simmons, Director of Professional Development, at <a href="mailto:nsimmons@law.utexas.edu">nsimmons@law.utexas.edu</a>.
END:VEVENT
END:VCALENDAR