BEGIN:VCALENDAR
VERSION:2.0
PRODID:-//UNIVERSITY OF TEXAS SCHOOL OF LAW//NONSGML Events Calendar v1.0//EN
X-WR-TIMEZONE:America/Chicago
BEGIN:VTIMEZONE
TZID:US/Central
X-LIC-LOCATION:America/Chicago
BEGIN:DAYLIGHT
TZOFFSETFROM:-0600
TZOFFSETTO:-0500
TZNAME:CDT
DTSTART:19700308T020000
RRULE:FREQ=YEARLY;BYMONTH=3;BYDAY=2SU
END:DAYLIGHT
BEGIN:STANDARD
TZOFFSETFROM:-0500
TZOFFSETTO:-0600
TZNAME:CST
DTSTART:19701101T020000
RRULE:FREQ=YEARLY;BYMONTH=11;BYDAY=1SU
END:STANDARD
END:VTIMEZONE
BEGIN:VEVENT
DTSTART;TZID=US/Central:20180424T120000
DTEND;VALUE=DATE-TIME;TZID=US/Central:20180424T130000

DTSTAMP:20260419T151100Z
CREATED:20180313T132300Z
LAST-MODIFIED:20180421T115600Z
UID:20180424T120000-37605@law.utexas.edu
SUMMARY:Institute for Transnational Law Lecture
DESCRIPTION:<p>On April 24th, the Institute is hosting its inaugural distinguished lecture. José V. Zapata, a Partner in the Bogotá office of Holland &amp; Knight, will give a presentation titled “The Growing Challenge for Non-Renewable and Renewable Resources: Can the Rule of Law Capture More Than the Social License to Operate and Develop and Integrative Approach?” This presentation is being organized with support from the Rocky Mountain Mineral Law Foundation.</p>
  <p>Lunch will be served.</p>
  <p>Seating is limited and an RSVP is required. RSVP at <a href="https://law.utexas.edu/transnational/">https://law.utexas.edu/transnational/</a></p>\n\nIf you need an accommodation to participate in this event, please contact the event sponsor or the Texas Law Special Events Office at specialevents@law.utexas.edu no later than seven business days prior to the event.
X-ALT-DESC;FMTTYPE=text/html:<p>On April 24th, the Institute is hosting its inaugural distinguished lecture. José V. Zapata, a Partner in the Bogotá office of Holland &amp; Knight, will give a presentation titled “The Growing Challenge for Non-Renewable and Renewable Resources: Can the Rule of Law Capture More Than the Social License to Operate and Develop and Integrative Approach?” This presentation is being organized with support from the Rocky Mountain Mineral Law Foundation.</p>
  <p>Lunch will be served.</p>
  <p>Seating is limited and an RSVP is required. RSVP at <a href="https://law.utexas.edu/transnational/">https://law.utexas.edu/transnational/</a></p><p>If you need an accommodation to participate in this event, please contact the event
                                          event sponsor or the Texas Law Special Events Office at <a href="mailto:specialevents@law.utexas.edu">specialevents@law.utexas.edu</a> no later than seven business days prior to the event.</p>

LOCATION:TNH 2.111 - Sheffield-Massey Room
URL:http://law.utexas.edu/calendar/2018/04/24/37605/
CLASS:PUBLIC
STATUS:CONFIRMED

END:VEVENT
END:VCALENDAR