BEGIN:VCALENDAR
VERSION:2.0
PRODID:-//UNIVERSITY OF TEXAS SCHOOL OF LAW//NONSGML Events Calendar v1.0//EN
X-WR-TIMEZONE:America/Chicago
BEGIN:VTIMEZONE
TZID:US/Central
X-LIC-LOCATION:America/Chicago
BEGIN:DAYLIGHT
TZOFFSETFROM:-0600
TZOFFSETTO:-0500
TZNAME:CDT
DTSTART:19700308T020000
RRULE:FREQ=YEARLY;BYMONTH=3;BYDAY=2SU
END:DAYLIGHT
BEGIN:STANDARD
TZOFFSETFROM:-0500
TZOFFSETTO:-0600
TZNAME:CST
DTSTART:19701101T020000
RRULE:FREQ=YEARLY;BYMONTH=11;BYDAY=1SU
END:STANDARD
END:VTIMEZONE
BEGIN:VEVENT
DTSTART;TZID=US/Central:20191015T114500
DTEND;VALUE=DATE-TIME;TZID=US/Central:20191015T124500

DTSTAMP:20260419T150800Z
CREATED:20190628T190000Z
LAST-MODIFIED:20190702T163300Z
UID:20191015T114500-47145@law.utexas.edu
SUMMARY:LL.M. Networking Workshop
DESCRIPTION:<p>Does the idea of networking seem confusing or intimidating? Come learn how to network and why it is so important for your job search. 
  Lunch will be served. RSVP by Monday, October 14, on <a href="https://law-utexas-csm.symplicity.com/students/index.php?s=event&amp;ss=ws&amp;_ksl=1&amp;mode=list">Symplicity</a> by clicking on the "Events" tab.</p>\n\nIf you need an accommodation to participate in this event, please contact the event sponsor or the Texas Law Special Events Office at specialevents@law.utexas.edu no later than seven business days prior to the event.
X-ALT-DESC;FMTTYPE=text/html:<p>Does the idea of networking seem confusing or intimidating? Come learn how to network and why it is so important for your job search. 
  Lunch will be served. RSVP by Monday, October 14, on <a href="https://law-utexas-csm.symplicity.com/students/index.php?s=event&amp;ss=ws&amp;_ksl=1&amp;mode=list">Symplicity</a> by clicking on the "Events" tab.</p><p>If you need an accommodation to participate in this event, please contact the event
                                          event sponsor or the Texas Law Special Events Office at <a href="mailto:specialevents@law.utexas.edu">specialevents@law.utexas.edu</a> no later than seven business days prior to the event.</p>
CATEGORIES:Workshop / Training Program
LOCATION:TNH 3.127 - Roberts Classroom
URL:http://law.utexas.edu/calendar/2019/10/15/47145/
CLASS:PUBLIC
STATUS:CONFIRMED
COMMENT:Please contact <a href="rsmith@law.utexas.edu">Rachel Smith</a>, Career Counselor.
END:VEVENT
END:VCALENDAR