BEGIN:VCALENDAR
VERSION:2.0
PRODID:-//UNIVERSITY OF TEXAS SCHOOL OF LAW//NONSGML Events Calendar v1.0//EN
X-WR-TIMEZONE:America/Chicago
BEGIN:VTIMEZONE
TZID:US/Central
X-LIC-LOCATION:America/Chicago
BEGIN:DAYLIGHT
TZOFFSETFROM:-0600
TZOFFSETTO:-0500
TZNAME:CDT
DTSTART:19700308T020000
RRULE:FREQ=YEARLY;BYMONTH=3;BYDAY=2SU
END:DAYLIGHT
BEGIN:STANDARD
TZOFFSETFROM:-0500
TZOFFSETTO:-0600
TZNAME:CST
DTSTART:19701101T020000
RRULE:FREQ=YEARLY;BYMONTH=11;BYDAY=1SU
END:STANDARD
END:VTIMEZONE
BEGIN:VEVENT
DTSTART;TZID=US/Central:20200116T080000
DTEND;VALUE=DATE-TIME;TZID=US/Central:20200116T170000

DTSTAMP:20260419T201500Z
CREATED:20191120T235900Z
LAST-MODIFIED:20191211T145900Z
UID:20200116T080000-52665@law.utexas.edu
SUMMARY:2020 Cyber 9/12 Challenge - Day One
DESCRIPTION:<p>We are excited to announce that the Strauss Center at The University of Texas at Austin is partnering with the Atlantic Council’s Cyber Statecraft Initiative to host a “regional” round of the Atlantic Council’s renowned cybersecurity policy competition. This stand-alone event will take place at the University of Texas School of Law on January 16th and 17th, with up to 24 teams vying for a title that includes, not just bragging rights, but also a cash prize for the top three teams (not to mention a deeply-enriching learning experience for all participants). Included in the two-day event will be a keynote speaker, as well as opportunities for professional development.
  </p>\n\nIf you need an accommodation to participate in this event, please contact the event sponsor or the Texas Law Special Events Office at specialevents@law.utexas.edu no later than seven business days prior to the event.
X-ALT-DESC;FMTTYPE=text/html:<p>We are excited to announce that the Strauss Center at The University of Texas at Austin is partnering with the Atlantic Council’s Cyber Statecraft Initiative to host a “regional” round of the Atlantic Council’s renowned cybersecurity policy competition. This stand-alone event will take place at the University of Texas School of Law on January 16th and 17th, with up to 24 teams vying for a title that includes, not just bragging rights, but also a cash prize for the top three teams (not to mention a deeply-enriching learning experience for all participants). Included in the two-day event will be a keynote speaker, as well as opportunities for professional development.
  </p><p>If you need an accommodation to participate in this event, please contact the event
                                          event sponsor or the Texas Law Special Events Office at <a href="mailto:specialevents@law.utexas.edu">specialevents@law.utexas.edu</a> no later than seven business days prior to the event.</p>
CATEGORIES:Other
LOCATION:TNH 2.100 - Susman Godfrey Atrium
URL:http://law.utexas.edu/calendar/2020/01/16/52665/
CLASS:PUBLIC
STATUS:CONFIRMED
COMMENT:https://www.strausscenter.org/apply-to-participate-in-the-austin-regional-of-the-atlantic-council-s-cyber-9-12-competition-copyntic-council-s-cyber-9-12-competition.html
END:VEVENT
END:VCALENDAR