BEGIN:VCALENDAR
VERSION:2.0
PRODID:-//UNIVERSITY OF TEXAS SCHOOL OF LAW//NONSGML Events Calendar v1.0//EN
X-WR-TIMEZONE:America/Chicago
BEGIN:VTIMEZONE
TZID:US/Central
X-LIC-LOCATION:America/Chicago
BEGIN:DAYLIGHT
TZOFFSETFROM:-0600
TZOFFSETTO:-0500
TZNAME:CDT
DTSTART:19700308T020000
RRULE:FREQ=YEARLY;BYMONTH=3;BYDAY=2SU
END:DAYLIGHT
BEGIN:STANDARD
TZOFFSETFROM:-0500
TZOFFSETTO:-0600
TZNAME:CST
DTSTART:19701101T020000
RRULE:FREQ=YEARLY;BYMONTH=11;BYDAY=1SU
END:STANDARD
END:VTIMEZONE
BEGIN:VEVENT
DTSTART;TZID=US/Central:20200122T083000
DTEND;VALUE=DATE-TIME;TZID=US/Central:20200122T103000

DTSTAMP:20260419T161200Z
CREATED:20191209T181600Z
LAST-MODIFIED:20200121T154700Z
UID:20200122T083000-53185@law.utexas.edu
SUMMARY:K&amp;L Gates 1L Meet &amp; Greet
DESCRIPTION:<p><a href="http://www.klgates.com/">K&amp;L Gates</a>, LLP invites all 1L students to join them for coffee and breakfast tacos from Juan in a Million in the Law School Atrium. <a href="http://m.klgates.com/claire-piepenburg/">Claire Piepenburg</a> - Associate, <a href="http://www.klgates.com/nickolas-g-spiliotis/">Nick Spiliotis</a> - Partner, <a href="https://www.linkedin.com/in/madison-mckay-a83889b2">Madison McKay</a> - Legal Recruiting Coordinator will be in attendance to answer questions about K&amp;L Gates. Be sure to stop by on your way to class!</p>\n\nIf you need an accommodation to participate in this event, please contact the event sponsor or the Texas Law Special Events Office at specialevents@law.utexas.edu no later than seven business days prior to the event.
X-ALT-DESC;FMTTYPE=text/html:<p><a href="http://www.klgates.com/">K&amp;L Gates</a>, LLP invites all 1L students to join them for coffee and breakfast tacos from Juan in a Million in the Law School Atrium. <a href="http://m.klgates.com/claire-piepenburg/">Claire Piepenburg</a> - Associate, <a href="http://www.klgates.com/nickolas-g-spiliotis/">Nick Spiliotis</a> - Partner, <a href="https://www.linkedin.com/in/madison-mckay-a83889b2">Madison McKay</a> - Legal Recruiting Coordinator will be in attendance to answer questions about K&amp;L Gates. Be sure to stop by on your way to class!</p><p>If you need an accommodation to participate in this event, please contact the event
                                          event sponsor or the Texas Law Special Events Office at <a href="mailto:specialevents@law.utexas.edu">specialevents@law.utexas.edu</a> no later than seven business days prior to the event.</p>
CATEGORIES:Breakfast
LOCATION:TNH 2.100 - Susman Godfrey Atrium
URL:http://law.utexas.edu/calendar/2020/01/22/53185/
CLASS:PUBLIC
STATUS:CONFIRMED
COMMENT:Please contact <a href="rquiroz@law.utexas.edu">Rachel Quiroz</a>, OCI Coordinator.
END:VEVENT
END:VCALENDAR